BEGIN:VCALENDAR
VERSION:2.0
PRODID:-//TerrasAtlánticas - ECPv6.10.1.1//NONSGML v1.0//EN
CALSCALE:GREGORIAN
METHOD:PUBLISH
X-WR-CALNAME:TerrasAtlánticas
X-ORIGINAL-URL:https://cas.terrasatlanticas.es
X-WR-CALDESC:Events for TerrasAtlánticas
REFRESH-INTERVAL;VALUE=DURATION:PT1H
X-Robots-Tag:noindex
X-PUBLISHED-TTL:PT1H
BEGIN:VTIMEZONE
TZID:Europe/Madrid
BEGIN:DAYLIGHT
TZOFFSETFROM:+0100
TZOFFSETTO:+0200
TZNAME:CEST
DTSTART:20230326T010000
END:DAYLIGHT
BEGIN:STANDARD
TZOFFSETFROM:+0200
TZOFFSETTO:+0100
TZNAME:CET
DTSTART:20231029T010000
END:STANDARD
END:VTIMEZONE
BEGIN:VEVENT
DTSTART;TZID=Europe/Madrid:20230412T100000
DTEND;TZID=Europe/Madrid:20230416T190000
DTSTAMP:20260423T220045
CREATED:20230306T064421Z
LAST-MODIFIED:20230922T105628Z
UID:195-1681293600-1681671600@cas.terrasatlanticas.es
SUMMARY:Fiesta del choco
DESCRIPTION:  \nEsta es una celebración tradicional en Redondela que tiene lugar en la primera quincena de mayo y está dedicada a exaltar este producto típico de la localidad. La Fiesta del Choco comenzó en el año 1987. \nEstos cefalópodos son capturados por los propios pescadores locales\, especialmente durante la primavera\, que es la temporada tradicional de este molusco. \nEn Redondela\, es una tradición celebrar la Fiesta del Choco en la primera quincena de mayo\, un evento gastronómico dedicado a exaltar este producto típico de la localidad. Comenzó en 1987. Estos chocos son capturados por los propios pescadores locales\, especialmente durante la primavera\, que es la temporada tradicional de este molusco. \nPara ello\, utilizan métodos de pesca tradicionales\, como las nasas. Este festival reúne a los restauradores más importantes del municipio\, quienes participan en una competición gastronómica dividida en categorías. \nEste concurso es la atracción principal de la fiesta\, donde el municipio muestra su producto emblemático. El lugar de la fiesta se encuentra en el centro de Redondela\, en el área de estacionamiento junto a los jardines de la Alameda. Allí se instalan diversos vendedores y mesas para los comensales. En el mismo lugar\, se celebra un baile tradicional\, así como diversas actividades a cargo de grupos folclóricos y un amplio programa de actividades festivas y culturales. \n 
URL:https://cas.terrasatlanticas.es/evento/fiesta-del-choco/
CATEGORIES:Festividades en Redondela
ATTACH;FMTTYPE=image/jpeg:https://cas.terrasatlanticas.es/wp-content/uploads/2023/03/choco-redondela-gastronomia-21.jpg
END:VEVENT
END:VCALENDAR