BEGIN:VCALENDAR
VERSION:2.0
PRODID:-//TerrasAtlánticas - ECPv6.10.1.1//NONSGML v1.0//EN
CALSCALE:GREGORIAN
METHOD:PUBLISH
X-WR-CALNAME:TerrasAtlánticas
X-ORIGINAL-URL:https://cas.terrasatlanticas.es
X-WR-CALDESC:Events for TerrasAtlánticas
REFRESH-INTERVAL;VALUE=DURATION:PT1H
X-Robots-Tag:noindex
X-PUBLISHED-TTL:PT1H
BEGIN:VTIMEZONE
TZID:Europe/Madrid
BEGIN:DAYLIGHT
TZOFFSETFROM:+0100
TZOFFSETTO:+0200
TZNAME:CEST
DTSTART:20230326T010000
END:DAYLIGHT
BEGIN:STANDARD
TZOFFSETFROM:+0200
TZOFFSETTO:+0100
TZNAME:CET
DTSTART:20231029T010000
END:STANDARD
END:VTIMEZONE
BEGIN:VEVENT
DTSTART;TZID=Europe/Madrid:20230318T193000
DTEND;TZID=Europe/Madrid:20230319T220000
DTSTAMP:20260423T223954
CREATED:20230315T082725Z
LAST-MODIFIED:20230925T092942Z
UID:631-1679167800-1679263200@cas.terrasatlanticas.es
SUMMARY:XIV Jornadas de la Camelia(Salceda de Caselas)
DESCRIPTION:La XIV Jornada de la Camelia se llevará a cabo los días 18 y 19 de marzo en el Auditorio Municipal de Salceda de Caselas\, donde todos los asistentes podrán disfrutar de la muestra y exposición floral de esta flor\, que cuenta con diversas especies y se exhibe en todo el municipio. El 18 de marzo\, a las 16:30 horas\, se llevará a cabo la ceremonia de apertura con una actuación de Fernando Barroso y Margarida Mariño. Los asistentes podrán visitar la exposición desde las 16:30 horas hasta las 19:00 horas del sábado. El domingo comenzará a las 10:00  y continuará hasta las 21:00 horas. \n 
URL:https://cas.terrasatlanticas.es/evento/xiv-jornadas-de-la-camelia-salceda-de-caselas/
CATEGORIES:Actividades en Salceda de caselas,Festividades en Salceda de caselas
ATTACH;FMTTYPE=image/jpeg:https://cas.terrasatlanticas.es/wp-content/uploads/2023/03/Xornadas-da-Camelia-Salceda-de-Caselas.jpg
END:VEVENT
END:VCALENDAR