BEGIN:VCALENDAR
VERSION:2.0
PRODID:-//TerrasAtlánticas - ECPv6.10.1.1//NONSGML v1.0//EN
CALSCALE:GREGORIAN
METHOD:PUBLISH
X-ORIGINAL-URL:https://cas.terrasatlanticas.es
X-WR-CALDESC:Events for TerrasAtlánticas
REFRESH-INTERVAL;VALUE=DURATION:PT1H
X-Robots-Tag:noindex
X-PUBLISHED-TTL:PT1H
BEGIN:VTIMEZONE
TZID:Europe/Madrid
BEGIN:DAYLIGHT
TZOFFSETFROM:+0100
TZOFFSETTO:+0200
TZNAME:CEST
DTSTART:20230326T010000
END:DAYLIGHT
BEGIN:STANDARD
TZOFFSETFROM:+0200
TZOFFSETTO:+0100
TZNAME:CET
DTSTART:20231029T010000
END:STANDARD
END:VTIMEZONE
BEGIN:VEVENT
DTSTART;TZID=Europe/Madrid:20230331T150000
DTEND;TZID=Europe/Madrid:20230403T015900
DTSTAMP:20260423T163342
CREATED:20230314T125754Z
LAST-MODIFIED:20230922T105712Z
UID:536-1680274800-1680487140@cas.terrasatlanticas.es
SUMMARY:Fiesta de la reconquista
DESCRIPTION:  \nEl 28 de marzo de 1809\, ocurrió un evento histórico en la ciudad de Vigo\, cuando la ciudad fue invadida por las tropas francesas que luchaban por apoderarse de ella\, mientras que los vigueses luchaban por recuperarla. Desde esa fecha se celebra dicho evento en conmemoración de la recuperación del territorio que les pertenecía. Es una fiesta de interés cultural organizada por la asociación de vecinos del Casco Vello. \nLos actos oficiales comienzan el sábado 25 de marzo en la Basílica-Concatedral de Santa María a las 13:00 horas con el concierto inaugural de la Reconquista 2023 a cargo de la Orquesta Juvenil Kv2211\, con entrada gratuita y aforo limitado\, seguido de: \n– A las 18:00 horas\, un grupo de gaitas actuará en la Plaza del Berbés.\n– A las 19:30 horas\, representación de la destitución del alcalde José Antonio Alonso Cairo y la toma de la ciudad por parte del ejército francés.\n– A las 20:30 horas\, actuación de las pandereteiras “Ferreñas da Oliveira”.\n– A las 21:30 horas\, actuación musical. \nLa programación para el domingo 26 de marzo es la siguiente: \n– A las 12:00 horas\, salida del ejército napoleónico del Casco Vello por las calles del casco antiguo.\n– A las 17:00 horas\, yincana infantil.\n– A las 12:00 horas\, talleres de Danzas del Mundo a cargo del “Grupo Monteira” en la Plaza del Berbés.\n– A las 16:30 horas\, taller de baile tradicional con “Manolo Cobas”.\n– A las 12:00 horas\, actuación de la “banda de gaitas de la ETRAD” en la Plaza de la Pedra. \n 
URL:https://cas.terrasatlanticas.es/evento/festa-de-la-reconquista/
CATEGORIES:Festividades en Vigo
ATTACH;FMTTYPE=image/jpeg:https://cas.terrasatlanticas.es/wp-content/uploads/2023/03/festa-da-reconquista-vigo_img338n1t0.jpg
END:VEVENT
END:VCALENDAR