BEGIN:VCALENDAR
VERSION:2.0
PRODID:-//TerrasAtlánticas - ECPv6.10.1.1//NONSGML v1.0//EN
CALSCALE:GREGORIAN
METHOD:PUBLISH
X-ORIGINAL-URL:https://cas.terrasatlanticas.es
X-WR-CALDESC:Events for TerrasAtlánticas
REFRESH-INTERVAL;VALUE=DURATION:PT1H
X-Robots-Tag:noindex
X-PUBLISHED-TTL:PT1H
BEGIN:VTIMEZONE
TZID:Europe/Madrid
BEGIN:DAYLIGHT
TZOFFSETFROM:+0100
TZOFFSETTO:+0200
TZNAME:CEST
DTSTART:20230326T010000
END:DAYLIGHT
BEGIN:STANDARD
TZOFFSETFROM:+0200
TZOFFSETTO:+0100
TZNAME:CET
DTSTART:20231029T010000
END:STANDARD
END:VTIMEZONE
BEGIN:VEVENT
DTSTART;TZID=Europe/Madrid:20230316T090000
DTEND;TZID=Europe/Madrid:20230316T180000
DTSTAMP:20260423T220154
CREATED:20230317T104545Z
LAST-MODIFIED:20230915T105042Z
UID:675-1678957200-1678989600@cas.terrasatlanticas.es
SUMMARY:Circuíto de Automodelismo de Vigo
DESCRIPTION:Este circuito se encuentra en la playa de Samil en Vigo. Fue inaugurado en 1987 con la celebración del Gran Premio Efra. \nA lo largo de los años\, se han realizado numerosas reformas y mejoras para hacerlo más competitivo y atractivo (un objetivo que se ha logrado ampliamente). \nCuenta con un podio con capacidad para catorce pilotos y bancos para transmisores; boxes para cien pilotos equipados con áreas cubiertas\, mesas fijas de metal\, bancos para objetos y tomas de 220 voltios; áreas de limpieza con mangueras de aire comprimido; un área para lavar la carrocería. \nEl circuito también cuenta con un bar con terraza\, desde donde se puede observar mejor todo el espectáculo de los motores rugiendo\, y servicios para hombres y mujeres. \nEn 2012\, se organizó allí el I Open Internacional de Pista en Samil\, un evento de tres días organizado por el club Automodelista Rias Baixas\, en el que participaron los pilotos más destacados\, tanto a nivel nacional como internacional. \nLa competición fue transmitida utilizando la plataforma LiveStream a través de Internet y la televisión autonómica de Galicia. \n 
URL:https://cas.terrasatlanticas.es/evento/circuito-de-automodelismo-de-vigo/
CATEGORIES:Actividades en Vigo
ATTACH;FMTTYPE=image/png:https://cas.terrasatlanticas.es/wp-content/uploads/2023/03/Circuito-de-Automodelismo-de-Vigo.png
END:VEVENT
END:VCALENDAR