BEGIN:VCALENDAR
VERSION:2.0
PRODID:-//TerrasAtlánticas - ECPv6.10.1.1//NONSGML v1.0//EN
CALSCALE:GREGORIAN
METHOD:PUBLISH
X-WR-CALNAME:TerrasAtlánticas
X-ORIGINAL-URL:https://cas.terrasatlanticas.es
X-WR-CALDESC:Events for TerrasAtlánticas
REFRESH-INTERVAL;VALUE=DURATION:PT1H
X-Robots-Tag:noindex
X-PUBLISHED-TTL:PT1H
BEGIN:VTIMEZONE
TZID:Europe/Madrid
BEGIN:DAYLIGHT
TZOFFSETFROM:+0100
TZOFFSETTO:+0200
TZNAME:CEST
DTSTART:20230326T010000
END:DAYLIGHT
BEGIN:STANDARD
TZOFFSETFROM:+0200
TZOFFSETTO:+0100
TZNAME:CET
DTSTART:20231029T010000
END:STANDARD
END:VTIMEZONE
BEGIN:VEVENT
DTSTART;TZID=Europe/Madrid:20230316T090000
DTEND;TZID=Europe/Madrid:20230316T180000
DTSTAMP:20260423T191508
CREATED:20230316T084552Z
LAST-MODIFIED:20230915T105451Z
UID:669-1678957200-1678989600@cas.terrasatlanticas.es
SUMMARY:Centro Ecuestre Cima de Vila
DESCRIPTION:Una alternativa al centro ecuestre tradicional. Clases de doma natural y talleres para familias. Formación en doma natural para adultos. Intervenciones asistidas con caballos (terapias de desarrollo personal con caballos). Diversos talleres. \n 
URL:https://cas.terrasatlanticas.es/evento/centro-ecuestre-cima-de-vila/
CATEGORIES:Actividades en Fornelos de montes
END:VEVENT
END:VCALENDAR