BEGIN:VCALENDAR
VERSION:2.0
PRODID:-//TerrasAtlánticas - ECPv6.10.1.1//NONSGML v1.0//EN
CALSCALE:GREGORIAN
METHOD:PUBLISH
X-WR-CALNAME:TerrasAtlánticas
X-ORIGINAL-URL:https://cas.terrasatlanticas.es
X-WR-CALDESC:Events for TerrasAtlánticas
REFRESH-INTERVAL;VALUE=DURATION:PT1H
X-Robots-Tag:noindex
X-PUBLISHED-TTL:PT1H
BEGIN:VTIMEZONE
TZID:Europe/Madrid
BEGIN:DAYLIGHT
TZOFFSETFROM:+0100
TZOFFSETTO:+0200
TZNAME:CEST
DTSTART:20230326T010000
END:DAYLIGHT
BEGIN:STANDARD
TZOFFSETFROM:+0200
TZOFFSETTO:+0100
TZNAME:CET
DTSTART:20231029T010000
END:STANDARD
END:VTIMEZONE
BEGIN:VEVENT
DTSTART;TZID=Europe/Madrid:20230101T100000
DTEND;TZID=Europe/Madrid:20231231T190000
DTSTAMP:20260422T194757
CREATED:20230629T101758Z
LAST-MODIFIED:20230922T195033Z
UID:1600-1672567200-1704049200@cas.terrasatlanticas.es
SUMMARY:Visitas teatralizadas en o Castelo de Soutomaior
DESCRIPTION:La Diputación de Pontevedra organiza entre los meses de julio y diciembre un total de 68 sesiones de visitas teatralizadas al Castillo de Soutomaior\, que permitirán que más de 2.000 personas (30 por turno) descubran la fortaleza de una manera diferente y desde la perspectiva de la mitología y las leyendas de la provincia de Pontevedra y de Galicia. Las visitas están enmarcadas en la línea temática “Orixe Rías Baixas”\, la campaña de promoción turística del destino Pontevedra Provincia que se está desarrollando en este 2023 centrada en el patrimonio cultural inmaterial. Las visitas\, excepto las específicas para público adulto\, están pensadas para público familiar a partir de los tres años\, estarán representadas por Troula Animación y tienen un precio unitario de 8 euros (incluye la visita al castillo). Las entradas se pueden adquirir en la web del Castillo. \nLa programación de verano comienza en julio. Habrá en julio y agosto dos sesiones los lunes y viernes a las 11:30 y a las 19:00 horas. Girarán en torno a un castillo hechizado donde los más pequeños deberán deshacer el encanto que sufre la fortaleza. Se organizan 34 sesiones\, donde los niños y niñas podrán interactuar con los cuatro personajes protagonistas: el trasno (el comediante)\, la meiga (que realiza pociones secretas)\, la moura (habitante del castillo) y el bardo (el poeta oficial de la misión). \nEn otoño e invierno\, tendrán lugar las visitas teatralizadas temáticas para el Samaín y la Navidad. Las visitas de Samaín están divididas en dos bloques: una versión para personas adultas que se llevará a cabo los viernes y sábados de todo el mes de octubre a las 20:00 horas (ocho sesiones)\, y una versión para público infantil que se celebrará los sábados y domingos de octubre en dos turnos\, a las 11:30 y a las 16:30 horas. Por último\, las visitas teatralizadas de Navidad cerrarán la programación durante el puente de diciembre\, con diez sesiones. \n 
URL:https://cas.terrasatlanticas.es/evento/1600/
CATEGORIES:Actividades en Soutomaior
ATTACH;FMTTYPE=image/png:https://cas.terrasatlanticas.es/wp-content/uploads/2023/06/Visitas-teatralizadas-no-Castelo-de-Soutomaior.png
END:VEVENT
BEGIN:VEVENT
DTSTART;TZID=Europe/Madrid:20230902T080000
DTEND;TZID=Europe/Madrid:20230903T170000
DTSTAMP:20260422T194757
CREATED:20230426T044231Z
LAST-MODIFIED:20230922T195158Z
UID:1031-1693641600-1693760400@cas.terrasatlanticas.es
SUMMARY:O son do Pazo
DESCRIPTION:También conocido como el  “Festival Intercéltico de Folk galego” donde grupos musicales de la cultura celta dan cita en septiembre en el Pazo de Mos. Es uno de los festivales musicales más importantes del panorama actual. Se contemplan las actuaciones con artistas por las calles\, talleres de baile\, mercados y exposiciones.
URL:https://cas.terrasatlanticas.es/evento/o-son-do-pazo/
CATEGORIES:Actividades en Mos
ATTACH;FMTTYPE=image/png:https://cas.terrasatlanticas.es/wp-content/uploads/2023/04/sondopazo.png
END:VEVENT
BEGIN:VEVENT
DTSTART;TZID=Europe/Madrid:20230902T110000
DTEND;TZID=Europe/Madrid:20230903T230000
DTSTAMP:20260422T194757
CREATED:20230315T094624Z
LAST-MODIFIED:20230918T090808Z
UID:654-1693652400-1693782000@cas.terrasatlanticas.es
SUMMARY:Exposalceda
DESCRIPTION:Fiesta organizada por el ayuntamiento que se celebra anualmente el primer fin de semana de septiembre\, coincide con la Fiesta de los Callos. Se presenta la exposición que organiza la ACISA (Asociación de Comerciantes y Industriales de Salcedas de Caselas) en el Pabellón de Deportes donde se presentan diversos productos: muebles\, electrodomésticos\, coches\, hogares\, confección\, venta de pisos\, publicidad\, clubs deportivos y vinos de las Rías Baixas. \n 
URL:https://cas.terrasatlanticas.es/evento/exposalceda/
CATEGORIES:Feiras y Congresos en Salceda de Caselas
ATTACH;FMTTYPE=image/jpeg:https://cas.terrasatlanticas.es/wp-content/uploads/2023/03/Exposalceda.jpg
END:VEVENT
BEGIN:VEVENT
DTSTART;TZID=Europe/Madrid:20230903T100000
DTEND;TZID=Europe/Madrid:20230903T190000
DTSTAMP:20260422T194757
CREATED:20230315T083040Z
LAST-MODIFIED:20230918T090738Z
UID:635-1693735200-1693767600@cas.terrasatlanticas.es
SUMMARY:Fiesta de los callos
DESCRIPTION:Esta fiesta gastronómica se celebra en la Praza do Concello el primer domingo de septiembre desde 1993. Cada año más de 20.000 personas acuden desde toda la geografía gallega y portuguesa para degustar este saboroso plato. Desde el año 2007\, en la noche del sábado se ven celebrando lo que se conoce como un serán popular. Más de 50 persoas voluntarias son las encargadas de que la fiesta sea un éxito año tras año.
URL:https://cas.terrasatlanticas.es/evento/festa-dos-callos-de-salceda-de-caselas/
CATEGORIES:Festividades en Salceda de caselas
ATTACH;FMTTYPE=image/jpeg:https://cas.terrasatlanticas.es/wp-content/uploads/2023/03/Festa-dos-callos-Salceda-de-Caselas.jpg
END:VEVENT
BEGIN:VEVENT
DTSTART;TZID=Europe/Madrid:20230904T080000
DTEND;TZID=Europe/Madrid:20230904T170000
DTSTAMP:20260422T194757
CREATED:20230904T061216Z
LAST-MODIFIED:20230915T103335Z
UID:2360-1693814400-1693846800@cas.terrasatlanticas.es
SUMMARY:Fiesta vecinal Teis Fest 2023
DESCRIPTION:  \nFiesta vecinal con cine al aire libre\, almuerzo\, concierto y animaciones infantiles. Se celebrará en la plaza de la ETEA la cual regresó el año pasado tras dos años sin poder realizarse. \nEl objetivo es poner en valor y reivindicar la recuperación de la ETEA. \nLa programación de “Teis Fest” comenzará el próximo viernes 8 de septiembre a partir de las 22:30 horas con una sesión de cine al aire libre\, en la que se proyectará “Valentina” de Chelo Loureiro. Esta película\, ganadora del Goya ao mellor largometraje de animación\, conta unha historia de inclusión na que a protagonista\, Valentina\, soña con ser trapecista\, pero cree que nunca podrá conseguilo por tener síndrome de Down. \nLa fiesta continuará el sábado 9 de septiembre\, el día grande\, con un jornada que arrancará a las 12:30 horas con las actuaciones de Cambio de Póla y Os Cuncheiros. A partir de las 14:00 horas tendrá lugar el tradicional Xantar Veciñal\, que contará con un menú compuesto por mejillones\, paellas\, sobremesa\, agua\, refreso y vino por un precio de 13 euros para los socios y de 17 euros para los nos socios. Cada socio podrá inscribir como máximo a tres personas hasta el próximo viernes 8 de septiembre. \nDespués de la comida\, los más pequeños podrán disfrutar de animación infantil y un posterior espectáculo de bailar a cargo de Star Danza. A las 18:30 horas tendrá lugar la actuación de la Banda de música Atlántida de Matamá\, que dará paso a la representación teatral Pirata Drake\, una de las grandes novedades de esta nueva edición. \nA partir de las 21:30 horas arrancarán la programación musical en la Praza da ETEA con los conciertos de Sonido de Teis\, a las 21:30 horas\, Vértebras\, a las 22:30 horas\, y Os Vacalouras a las 00:00 horas\, que darán por cerrada esta nueva edición de “Teis Fest”. Además\, tanto el viernes por la tarde como el sábado todo el día habrá un mercadillo. \nViernes 8 de septiembre\n22:30 horas: Cine al aire libre | “Valentina”\nSábado 9 de septiembre\n12:30 horas: Cambio de póla – Os Cuncheiros\n14:00 horas: Xantar veciñal\n16:30 horas: animación infantil\n17:30 horas: Star Danza\n18:30 horas: Banda de música Atlántida de Matamá\n19:30 horas: Representación teatral Pirata Drake\n21:30 horas: Sonido de Teis\n22:30 horas: Vértebras\n00:00 horas: Os Vacalouras \n 
URL:https://cas.terrasatlanticas.es/evento/festa-vecinal-teis-fest-2023/
CATEGORIES:Festividades en Vigo
ATTACH;FMTTYPE=image/png:https://cas.terrasatlanticas.es/wp-content/uploads/2023/09/tesi-fest.png
END:VEVENT
BEGIN:VEVENT
DTSTART;VALUE=DATE:20230917
DTEND;VALUE=DATE:20230919
DTSTAMP:20260422T194757
CREATED:20230315T071734Z
LAST-MODIFIED:20230915T103256Z
UID:625-1694916000-1695002399@cas.terrasatlanticas.es
SUMMARY:Fiesta del rabo y oreja de cerdo
DESCRIPTION:  \nEl tercer domingo de septiembre en el lugar de los Caballeros en la parroquia de Santa Eulalia de Mos\, se celebra la fiesta del Santo Cristo de la Victoria. La asociación de Fiestas\, con la  colaboración del Concello de Mos\, prepara un día lleno de actividades y deliciosos platos típicos para toda la familia. Non pierdas la oportunidad de degustar los mejores productos de la zona y disfrutar de las diversas actuaciones musicales. Además\, también haberá exposiciones de coches y motos antiguas\, una actividad que encantará a todos los amantes de vehículos clásicos. Este evento es ideal para pasar un día en familia o con los amigos en un ambiente acolledor y festivo. No esperes más y únete a la celebración de la fiesta de Santo Cristo de la Victoria. \n 
URL:https://cas.terrasatlanticas.es/evento/festa-do-rabo-e-orella-de-porcomos/
CATEGORIES:Festividades en Mos
ATTACH;FMTTYPE=image/png:https://cas.terrasatlanticas.es/wp-content/uploads/2023/03/codillomos-1024x538-1.png
END:VEVENT
BEGIN:VEVENT
DTSTART;VALUE=DATE:20230925
DTEND;VALUE=DATE:20230927
DTSTAMP:20260422T194757
CREATED:20230315T084110Z
LAST-MODIFIED:20230924T210420Z
UID:638-1695607200-1695693599@cas.terrasatlanticas.es
SUMMARY:Fiesta de la Zorza
DESCRIPTION:Si buscas un plan diferente para disfrutar en familia\, no puedes perderte la fiesta gastronómica de la exaltación de la zorza en la parroquia de Ventín. Durante la celebración\, puedes probar un plato típico de la zona: la zorza\, acompañada de patatas fritas y pan. Además\, habrá música en directo para crear un ambiente inmejorable\, así como\, también poder tener la oportunidad de ver la nueva edición de la Concentración de Vespas Clásicas.
URL:https://cas.terrasatlanticas.es/evento/festa-da-zorzafornelos-de-montes/
CATEGORIES:Festividades en Fornelos de montes
ATTACH;FMTTYPE=image/png:https://cas.terrasatlanticas.es/wp-content/uploads/2023/03/zorza-fornelos.png
END:VEVENT
END:VCALENDAR