BEGIN:VCALENDAR
VERSION:2.0
PRODID:-//TerrasAtlánticas - ECPv6.10.1.1//NONSGML v1.0//EN
CALSCALE:GREGORIAN
METHOD:PUBLISH
X-WR-CALNAME:TerrasAtlánticas
X-ORIGINAL-URL:https://cas.terrasatlanticas.es
X-WR-CALDESC:Events for TerrasAtlánticas
REFRESH-INTERVAL;VALUE=DURATION:PT1H
X-Robots-Tag:noindex
X-PUBLISHED-TTL:PT1H
BEGIN:VTIMEZONE
TZID:Europe/Madrid
BEGIN:DAYLIGHT
TZOFFSETFROM:+0100
TZOFFSETTO:+0200
TZNAME:CEST
DTSTART:20230326T010000
END:DAYLIGHT
BEGIN:STANDARD
TZOFFSETFROM:+0200
TZOFFSETTO:+0100
TZNAME:CET
DTSTART:20231029T010000
END:STANDARD
END:VTIMEZONE
BEGIN:VEVENT
DTSTART;TZID=Europe/Madrid:20230101T100000
DTEND;TZID=Europe/Madrid:20231231T190000
DTSTAMP:20260422T211950
CREATED:20230629T101758Z
LAST-MODIFIED:20230922T195033Z
UID:1600-1672567200-1704049200@cas.terrasatlanticas.es
SUMMARY:Visitas teatralizadas en o Castelo de Soutomaior
DESCRIPTION:La Diputación de Pontevedra organiza entre los meses de julio y diciembre un total de 68 sesiones de visitas teatralizadas al Castillo de Soutomaior\, que permitirán que más de 2.000 personas (30 por turno) descubran la fortaleza de una manera diferente y desde la perspectiva de la mitología y las leyendas de la provincia de Pontevedra y de Galicia. Las visitas están enmarcadas en la línea temática “Orixe Rías Baixas”\, la campaña de promoción turística del destino Pontevedra Provincia que se está desarrollando en este 2023 centrada en el patrimonio cultural inmaterial. Las visitas\, excepto las específicas para público adulto\, están pensadas para público familiar a partir de los tres años\, estarán representadas por Troula Animación y tienen un precio unitario de 8 euros (incluye la visita al castillo). Las entradas se pueden adquirir en la web del Castillo. \nLa programación de verano comienza en julio. Habrá en julio y agosto dos sesiones los lunes y viernes a las 11:30 y a las 19:00 horas. Girarán en torno a un castillo hechizado donde los más pequeños deberán deshacer el encanto que sufre la fortaleza. Se organizan 34 sesiones\, donde los niños y niñas podrán interactuar con los cuatro personajes protagonistas: el trasno (el comediante)\, la meiga (que realiza pociones secretas)\, la moura (habitante del castillo) y el bardo (el poeta oficial de la misión). \nEn otoño e invierno\, tendrán lugar las visitas teatralizadas temáticas para el Samaín y la Navidad. Las visitas de Samaín están divididas en dos bloques: una versión para personas adultas que se llevará a cabo los viernes y sábados de todo el mes de octubre a las 20:00 horas (ocho sesiones)\, y una versión para público infantil que se celebrará los sábados y domingos de octubre en dos turnos\, a las 11:30 y a las 16:30 horas. Por último\, las visitas teatralizadas de Navidad cerrarán la programación durante el puente de diciembre\, con diez sesiones. \n 
URL:https://cas.terrasatlanticas.es/evento/1600/
CATEGORIES:Actividades en Soutomaior
ATTACH;FMTTYPE=image/png:https://cas.terrasatlanticas.es/wp-content/uploads/2023/06/Visitas-teatralizadas-no-Castelo-de-Soutomaior.png
END:VEVENT
BEGIN:VEVENT
DTSTART;VALUE=DATE:20230806
DTEND;VALUE=DATE:20230808
DTSTAMP:20260422T211950
CREATED:20230314T131004Z
LAST-MODIFIED:20230918T090928Z
UID:593-1691287200-1691373599@cas.terrasatlanticas.es
SUMMARY:Portobelo - Feria de Oportunidades del Val Miñor
DESCRIPTION:  \nEsta feria de oportunidades que tendrá lugar en Gondomar donde los presentes poderán comprar en el centro de la localidad a precios inmejorables artículos como ropa\, calzado\, complementos\, objetos de menaje\, etc. La feria contará con actuaciones y Yimkana\, Juegos Populares. \n 
URL:https://cas.terrasatlanticas.es/evento/portobelo-feira-de-oportunidades-do-val-minor-2023-en-gondomar/
CATEGORIES:Actividades en Gondomar,Festividades en Gondomar
ATTACH;FMTTYPE=image/jpeg:https://cas.terrasatlanticas.es/wp-content/uploads/2023/03/portobelo-feira-de-oportunidades-do-val-minor-de-ramallosa-nigran_img17030n1t0.jpg
END:VEVENT
BEGIN:VEVENT
DTSTART;TZID=Europe/Madrid:20230811T100000
DTEND;TZID=Europe/Madrid:20230813T190000
DTSTAMP:20260422T211950
CREATED:20230315T071038Z
LAST-MODIFIED:20230918T090859Z
UID:621-1691748000-1691953200@cas.terrasatlanticas.es
SUMMARY:Fiesta de la Prehistoria
DESCRIPTION:  \nEsta fiesta se celebra siempre el segund fin de semana de agosto\, en el parque forestal de la Penacova por donde transcurre el sendero histórico de Mos. Es la única fiesta temática prehistórica de toda Galicia\, y pioneira a nivel nacional en este tipo de celebraciones. Nos devuelve a la Edad de Piedra: de recorren antiguos castros y restos para experimentar de primeira mano cómo era vivir en aquella época. Aprendes a cazar\, hacer fuego\, tallado lítico\, y otras actividades propias de los ancestros de estas tierras. La jornada discurre entre juegos y  competiciones entre las tribus participantes. \n  \n  \n 
URL:https://cas.terrasatlanticas.es/evento/festa-da-prehistoriamos-2/
CATEGORIES:Festividades en Mos
ATTACH;FMTTYPE=image/png:https://cas.terrasatlanticas.es/wp-content/uploads/2023/03/Captura-de-pantalla-2023-08-01-114019-Prehistoria.png
END:VEVENT
BEGIN:VEVENT
DTSTART;TZID=Europe/Madrid:20230831T080000
DTEND;TZID=Europe/Madrid:20230831T170000
DTSTAMP:20260422T211950
CREATED:20230831T122041Z
LAST-MODIFIED:20230922T204053Z
UID:2303-1693468800-1693501200@cas.terrasatlanticas.es
SUMMARY:Fiesta del Mejillón en Castrelos
DESCRIPTION:Fiesta gastronómica que se llevará a cabo en el parque vigués de Castrelos. La Fiesta del Mejillón\, es una fiesta tradicional dedicada al considerado rey de la ría de Vigo\, que permite probar en Castrelos el auténtico mejillón de batea\, cultivado con cuidadas técnicas tradicionales y que se puede degustar en decenas de formas distintas. \nLa fiesta del Mejillón\, se celebrará este domingo 3 de septiembre a partir de las 10:30 horas\, donde también tienen cabida otras fiestas como la Fiesta de la Sardina de Teis o la Fiesta del Pulpo\, dos festividades que ya degustaron los vigueses y visitantes este verano. En el caso de la celebración que tendrá lugar en Castrelos\, será uno de los grandes eventos programados para el mes de septiembre en la urbe gallega. \n 
URL:https://cas.terrasatlanticas.es/evento/2303/
CATEGORIES:Actividades en Vigo,Festividades en Vigo
ATTACH;FMTTYPE=image/jpeg:https://cas.terrasatlanticas.es/wp-content/uploads/2023/08/Festa-do-mexillon-Vigo.jpg
END:VEVENT
END:VCALENDAR