BEGIN:VCALENDAR
VERSION:2.0
PRODID:-//TerrasAtlánticas - ECPv6.10.1.1//NONSGML v1.0//EN
CALSCALE:GREGORIAN
METHOD:PUBLISH
X-WR-CALNAME:TerrasAtlánticas
X-ORIGINAL-URL:https://cas.terrasatlanticas.es
X-WR-CALDESC:Events for TerrasAtlánticas
REFRESH-INTERVAL;VALUE=DURATION:PT1H
X-Robots-Tag:noindex
X-PUBLISHED-TTL:PT1H
BEGIN:VTIMEZONE
TZID:Europe/Madrid
BEGIN:DAYLIGHT
TZOFFSETFROM:+0100
TZOFFSETTO:+0200
TZNAME:CEST
DTSTART:20230326T010000
END:DAYLIGHT
BEGIN:STANDARD
TZOFFSETFROM:+0200
TZOFFSETTO:+0100
TZNAME:CET
DTSTART:20231029T010000
END:STANDARD
END:VTIMEZONE
BEGIN:VEVENT
DTSTART;TZID=Europe/Madrid:20230101T100000
DTEND;TZID=Europe/Madrid:20231231T190000
DTSTAMP:20260423T005928
CREATED:20230629T101758Z
LAST-MODIFIED:20230922T195033Z
UID:1600-1672567200-1704049200@cas.terrasatlanticas.es
SUMMARY:Visitas teatralizadas en o Castelo de Soutomaior
DESCRIPTION:La Diputación de Pontevedra organiza entre los meses de julio y diciembre un total de 68 sesiones de visitas teatralizadas al Castillo de Soutomaior\, que permitirán que más de 2.000 personas (30 por turno) descubran la fortaleza de una manera diferente y desde la perspectiva de la mitología y las leyendas de la provincia de Pontevedra y de Galicia. Las visitas están enmarcadas en la línea temática “Orixe Rías Baixas”\, la campaña de promoción turística del destino Pontevedra Provincia que se está desarrollando en este 2023 centrada en el patrimonio cultural inmaterial. Las visitas\, excepto las específicas para público adulto\, están pensadas para público familiar a partir de los tres años\, estarán representadas por Troula Animación y tienen un precio unitario de 8 euros (incluye la visita al castillo). Las entradas se pueden adquirir en la web del Castillo. \nLa programación de verano comienza en julio. Habrá en julio y agosto dos sesiones los lunes y viernes a las 11:30 y a las 19:00 horas. Girarán en torno a un castillo hechizado donde los más pequeños deberán deshacer el encanto que sufre la fortaleza. Se organizan 34 sesiones\, donde los niños y niñas podrán interactuar con los cuatro personajes protagonistas: el trasno (el comediante)\, la meiga (que realiza pociones secretas)\, la moura (habitante del castillo) y el bardo (el poeta oficial de la misión). \nEn otoño e invierno\, tendrán lugar las visitas teatralizadas temáticas para el Samaín y la Navidad. Las visitas de Samaín están divididas en dos bloques: una versión para personas adultas que se llevará a cabo los viernes y sábados de todo el mes de octubre a las 20:00 horas (ocho sesiones)\, y una versión para público infantil que se celebrará los sábados y domingos de octubre en dos turnos\, a las 11:30 y a las 16:30 horas. Por último\, las visitas teatralizadas de Navidad cerrarán la programación durante el puente de diciembre\, con diez sesiones. \n 
URL:https://cas.terrasatlanticas.es/evento/1600/
CATEGORIES:Actividades en Soutomaior
ATTACH;FMTTYPE=image/png:https://cas.terrasatlanticas.es/wp-content/uploads/2023/06/Visitas-teatralizadas-no-Castelo-de-Soutomaior.png
END:VEVENT
BEGIN:VEVENT
DTSTART;TZID=Europe/Madrid:20230512T100000
DTEND;TZID=Europe/Madrid:20230708T190000
DTSTAMP:20260423T005928
CREATED:20230315T090519Z
LAST-MODIFIED:20230915T104127Z
UID:648-1683885600-1688842800@cas.terrasatlanticas.es
SUMMARY:Festival Terraceo
DESCRIPTION:Si buscas un poco de música para acompañar tu viaje\, en mayo tendrás la oportunidad de asistir a la cuarta edición del Festival Terraceo\, donde se presentarán artistas como Julieta Venegas y Hard GZ en esta tercera edición en el Auditorio Mar de Vigo. \n 
URL:https://cas.terrasatlanticas.es/evento/festival-terraceovigo/
CATEGORIES:Actividades en Vigo
ATTACH;FMTTYPE=image/jpeg:https://cas.terrasatlanticas.es/wp-content/uploads/2023/03/Festival-Terraceo.jpg
END:VEVENT
BEGIN:VEVENT
DTSTART;TZID=Europe/Madrid:20230604T100000
DTEND;TZID=Europe/Madrid:20230605T190000
DTSTAMP:20260423T005928
CREATED:20230315T085120Z
LAST-MODIFIED:20230922T195653Z
UID:644-1685872800-1685991600@cas.terrasatlanticas.es
SUMMARY:XXXVI Fiesta de la Cereza de Beade
DESCRIPTION:  \nFiesta que tendrá lugar en la parroquia de Beade los días 4 y 5 de junio\, donde los asistentes podrán degustar\, un año más\, las primeras cerezas de la temporada mientras disfrutan de las actividades lúdicas programadas para un público de todas las edades\, escuchando a las bandas musicales que actúan.
URL:https://cas.terrasatlanticas.es/evento/xxxvi-festa-da-cereixa-de-beade/
CATEGORIES:Actividades en Vigo,Festividades en Vigo
ATTACH;FMTTYPE=image/png:https://cas.terrasatlanticas.es/wp-content/uploads/2023/03/Festa-da-Cereixa-de-Beade.png
END:VEVENT
BEGIN:VEVENT
DTSTART;VALUE=DATE:20230613
DTEND;VALUE=DATE:20230615
DTSTAMP:20260423T005928
CREATED:20230315T070316Z
LAST-MODIFIED:20230922T195313Z
UID:614-1686621600-1686707999@cas.terrasatlanticas.es
SUMMARY:Fiesta de la Rosa
DESCRIPTION:Se celebra desde el año 1973 y es la fiesta oficial del municipio. La fiesta rinde homenaje a la Rosa de los Quirós\, marqueses de los que Mos heredó el emblema hoy presente en su escudo oficial. La fiesta tiene lugar siempre el 13 de junio. Fiesta declarada de interés turístico de Galicia. Las personas asistentes a esta jornada podrán disfrutar de los actos programados para la ocasión\, como el tradicional concurso de Ramos de Rosas y la degustación de la empanada de pan de maíz.
URL:https://cas.terrasatlanticas.es/evento/festa-da-rosamos/
CATEGORIES:Actividades en Mos,Festividades en Mos
ATTACH;FMTTYPE=image/jpeg:https://cas.terrasatlanticas.es/wp-content/uploads/2023/03/festa-da-rosa-mos_img4140n1t0.jpg
END:VEVENT
BEGIN:VEVENT
DTSTART;TZID=Europe/Madrid:20230621T100000
DTEND;TZID=Europe/Madrid:20230623T190000
DTSTAMP:20260423T005928
CREATED:20230323T063446Z
LAST-MODIFIED:20230922T102919Z
UID:866-1687341600-1687546800@cas.terrasatlanticas.es
SUMMARY:VIII Jornadas Nacionales de Investigación en Ciberseguridad
DESCRIPTION:  \nVigo acogerá en junio las VIII Jornadas Nacionales de Investigación en Ciberseguridad que se llevarán a cabo entre los días 21 y 23 de junio y están organizadas por el centro tecnológico Gradiant y el Centro de Investigación en Tecnologías de Telecomunicación de la Universidad de Vigo\, atlanTTic. \nEs la primera vez que estas jornadas se desarrollan en Galicia desde su inicio en 2015. \nLos participantes pueden inscribirse a partir del 10 de abril.
URL:https://cas.terrasatlanticas.es/evento/viii-xornadas-nacionais-de-investigacion-en-ciberseguridade/
CATEGORIES:Feiras e Congresos en Vigo
ATTACH;FMTTYPE=image/jpeg:https://cas.terrasatlanticas.es/wp-content/uploads/2023/03/xornadas-ciberseguridade-scaled.jpg
END:VEVENT
BEGIN:VEVENT
DTSTART;VALUE=DATE:20230624
DTEND;VALUE=DATE:20230626
DTSTAMP:20260423T005928
CREATED:20230629T100653Z
LAST-MODIFIED:20230925T092232Z
UID:1599-1687572000-1687658399@cas.terrasatlanticas.es
SUMMARY:Fiesta de Os Fachos
DESCRIPTION:  \nDesde hace unos años en el monte de la Peneda (monte que está en la mayor parte de su territorio en el concello de Soutomaior)\, se celebra al final del mes de junio esta fiesta de inspiración pagana\, para dar la bienvenida al verano. La primera celebración fue en el año 1997\, aunque dicen que esta tradición se registra en el siglo XIX. Posee reminiscencias mitológicas basadas en la cultura castreña del monte (retos de la luz). Su principal característica es la subida hasta su cumio caminando con antorchas encendidas y la posterior quema de una hoguera. La Peneda constituye un paisaje único visible casi desde todos los puntos de vista da ría. Por la otra banda es importante destacar su fuerte carga histórica desde los tiempos más remotos\,”Castro de la Peneda”\, y también la gran relevancia durante la Edad Media en la que era conocido como la Fortaleza de Castrizán\, ya que jugó un papel fundamental en las Revueltas Irmandiñas y en los conflitos nobiliarios. Posteriormente fue cristiano y su cumio fue coronado con una ermida. La Fiesta de los Fachos tiene un marcado componente reivindicativo en lo que la organización quiere llamar la atención sobre los cuidados que debe recibir el monte\, la preservación de los espacios naturales y las especies autóctonas. Además\, supone también un llamamiento a la unión dos dos ayuntamientos en ese espacio común. El colectivo Alén Nós fue el primero en apostar por esta celebración\, que edición tras edición crece cada día más y contribuye la espectacularidad de la celebración. Cuidado con el fuego!
URL:https://cas.terrasatlanticas.es/evento/festa-dos-fachos-2/
CATEGORIES:Actividades en Soutomaior
ATTACH;FMTTYPE=image/png:https://cas.terrasatlanticas.es/wp-content/uploads/2023/06/Festa-dos-Fachos-02.png
END:VEVENT
END:VCALENDAR