BEGIN:VCALENDAR
VERSION:2.0
PRODID:-//TerrasAtlánticas - ECPv6.10.1.1//NONSGML v1.0//EN
CALSCALE:GREGORIAN
METHOD:PUBLISH
X-WR-CALNAME:TerrasAtlánticas
X-ORIGINAL-URL:https://cas.terrasatlanticas.es
X-WR-CALDESC:Events for TerrasAtlánticas
REFRESH-INTERVAL;VALUE=DURATION:PT1H
X-Robots-Tag:noindex
X-PUBLISHED-TTL:PT1H
BEGIN:VTIMEZONE
TZID:Europe/Madrid
BEGIN:DAYLIGHT
TZOFFSETFROM:+0100
TZOFFSETTO:+0200
TZNAME:CEST
DTSTART:20230326T010000
END:DAYLIGHT
BEGIN:STANDARD
TZOFFSETFROM:+0200
TZOFFSETTO:+0100
TZNAME:CET
DTSTART:20231029T010000
END:STANDARD
END:VTIMEZONE
BEGIN:VEVENT
DTSTART;TZID=Europe/Madrid:20230101T100000
DTEND;TZID=Europe/Madrid:20231231T190000
DTSTAMP:20260423T024052
CREATED:20230629T101758Z
LAST-MODIFIED:20230922T195033Z
UID:1600-1672567200-1704049200@cas.terrasatlanticas.es
SUMMARY:Visitas teatralizadas en o Castelo de Soutomaior
DESCRIPTION:La Diputación de Pontevedra organiza entre los meses de julio y diciembre un total de 68 sesiones de visitas teatralizadas al Castillo de Soutomaior\, que permitirán que más de 2.000 personas (30 por turno) descubran la fortaleza de una manera diferente y desde la perspectiva de la mitología y las leyendas de la provincia de Pontevedra y de Galicia. Las visitas están enmarcadas en la línea temática “Orixe Rías Baixas”\, la campaña de promoción turística del destino Pontevedra Provincia que se está desarrollando en este 2023 centrada en el patrimonio cultural inmaterial. Las visitas\, excepto las específicas para público adulto\, están pensadas para público familiar a partir de los tres años\, estarán representadas por Troula Animación y tienen un precio unitario de 8 euros (incluye la visita al castillo). Las entradas se pueden adquirir en la web del Castillo. \nLa programación de verano comienza en julio. Habrá en julio y agosto dos sesiones los lunes y viernes a las 11:30 y a las 19:00 horas. Girarán en torno a un castillo hechizado donde los más pequeños deberán deshacer el encanto que sufre la fortaleza. Se organizan 34 sesiones\, donde los niños y niñas podrán interactuar con los cuatro personajes protagonistas: el trasno (el comediante)\, la meiga (que realiza pociones secretas)\, la moura (habitante del castillo) y el bardo (el poeta oficial de la misión). \nEn otoño e invierno\, tendrán lugar las visitas teatralizadas temáticas para el Samaín y la Navidad. Las visitas de Samaín están divididas en dos bloques: una versión para personas adultas que se llevará a cabo los viernes y sábados de todo el mes de octubre a las 20:00 horas (ocho sesiones)\, y una versión para público infantil que se celebrará los sábados y domingos de octubre en dos turnos\, a las 11:30 y a las 16:30 horas. Por último\, las visitas teatralizadas de Navidad cerrarán la programación durante el puente de diciembre\, con diez sesiones. \n 
URL:https://cas.terrasatlanticas.es/evento/1600/
CATEGORIES:Actividades en Soutomaior
ATTACH;FMTTYPE=image/png:https://cas.terrasatlanticas.es/wp-content/uploads/2023/06/Visitas-teatralizadas-no-Castelo-de-Soutomaior.png
END:VEVENT
BEGIN:VEVENT
DTSTART;VALUE=DATE:20230507
DTEND;VALUE=DATE:20230509
DTSTAMP:20260423T024052
CREATED:20230413T063300Z
LAST-MODIFIED:20230915T104211Z
UID:930-1683424800-1683511199@cas.terrasatlanticas.es
SUMMARY:Corre X Salceda
DESCRIPTION:  \nEl 7 de mayo\, la carrera popular “Corre por Salceda”\, fiel a su cita\, celebrará su décima edición consolidándose como uno de los eventos más importantes en el calendario deportivo de Salceda de Caselas. \nEsta prueba\, que cuenta con el apoyo de la Diputación de Pontevedra\, estará organizada por la concejalía de Deportes y el personal técnico de las Escuelas Deportivas Municipales\, con la colaboración de numerosas personas voluntarias\, la Policía Local y la Agrupación Local de Protección Civil de Salceda de Caselas. \nLa carrera se desarrollará en el trazado de las calles del casco urbano y algunas de las rutas del municipio\, y constará de las siguientes categorías: \n– Categoría absoluta (años 2007 y anteriores) de 10 km y 5 km con salida conjunta a las 10:30 horas.\n– Categoría A (años 2008\, 2009 y 2010) de 2\,5 km a las 10:35 horas.\n– Resto de categorías (escolares y menores) con salida a partir de las 12:00 horas. \nLa categoría absoluta de 10 km de distancia será\, como en ediciones anteriores\, una prueba puntuable para el Circuito Galego de Carreiras Populares 2022/2023. \nLa entrega de premios se llevará a cabo en la Plaza del Ayuntamiento a partir de las 12:45 horas. \nLas personas participantes deberán inscribirse en la página www.championchipnorte.com hasta el próximo martes 3 de mayo y pueden obtener toda la información necesaria en la página del ayuntamiento www.deportesalceda.gal o dirigiéndose a la Concejalía de Deportes o a las Escuelas Deportivas Municipales. \nRubén González Coto\, Concejal de Deportes\, dijo: “Es una alegría que esta prueba alcance su décima edición disfrutando de muy buena salud\, ya que cada año tiene una mayor participación de corredores y corredoras de Salceda y de municipios de alrededor”.
URL:https://cas.terrasatlanticas.es/evento/corre-x-salceda/
CATEGORIES:Actividades en Salceda de caselas
ATTACH;FMTTYPE=image/png:https://cas.terrasatlanticas.es/wp-content/uploads/2023/04/Corre-X-Salceda.png
END:VEVENT
BEGIN:VEVENT
DTSTART;TZID=Europe/Madrid:20230512T100000
DTEND;TZID=Europe/Madrid:20230512T190000
DTSTAMP:20260423T024052
CREATED:20230512T063909Z
LAST-MODIFIED:20230925T092326Z
UID:1175-1683885600-1683918000@cas.terrasatlanticas.es
SUMMARY:Fiesta del huevo de A Nespereira
DESCRIPTION:  \nTenemos el placer de invitaros a la XVII Festa do Ovo de Nespereira (mayo de 2023)\, que se celebrará en Pazos de Borbén. Esta festividad es una ocasión única para disfrutar en familia de un día lleno de diversión y gastronomía. \nEn la XVII Festa do Ovo de Nespereira (2023)\, podréis encontrar una gran variedad de actividades para todas las edades. Desde degustar la deliciosa gastronomía a base de huevo y empanadas\, hasta participar en una caminata para conocer los bellos paisajes que rodean Pazos de Borbén. Además\, habrá inflables y colchonetas para los más pequeños de la casa\, quienes se divertirán mientras los padres se relajan y disfrutan de los DJs. \nEstamos seguros de que pasaréis un día inolvidable en compañía de la gente de Pazos de Borbén. \n 
URL:https://cas.terrasatlanticas.es/evento/festa-do-oevo-da-nespereira/
CATEGORIES:Actividades en Pazos de borbén
ATTACH;FMTTYPE=image/png:https://cas.terrasatlanticas.es/wp-content/uploads/2023/05/Festa-do-ovo-da-Nespereira.png
END:VEVENT
BEGIN:VEVENT
DTSTART;TZID=Europe/Madrid:20230512T100000
DTEND;TZID=Europe/Madrid:20230708T190000
DTSTAMP:20260423T024052
CREATED:20230315T090519Z
LAST-MODIFIED:20230915T104127Z
UID:648-1683885600-1688842800@cas.terrasatlanticas.es
SUMMARY:Festival Terraceo
DESCRIPTION:Si buscas un poco de música para acompañar tu viaje\, en mayo tendrás la oportunidad de asistir a la cuarta edición del Festival Terraceo\, donde se presentarán artistas como Julieta Venegas y Hard GZ en esta tercera edición en el Auditorio Mar de Vigo. \n 
URL:https://cas.terrasatlanticas.es/evento/festival-terraceovigo/
CATEGORIES:Actividades en Vigo
ATTACH;FMTTYPE=image/jpeg:https://cas.terrasatlanticas.es/wp-content/uploads/2023/03/Festival-Terraceo.jpg
END:VEVENT
BEGIN:VEVENT
DTSTART;TZID=Europe/Madrid:20230513T100000
DTEND;TZID=Europe/Madrid:20230514T190000
DTSTAMP:20260423T024052
CREATED:20230315T085516Z
LAST-MODIFIED:20230922T105500Z
UID:645-1683972000-1684090800@cas.terrasatlanticas.es
SUMMARY:Fiesta de Los mayos
DESCRIPTION:  \nLas calles de la ciudad se decoran con ramas y flores\, y se colocan muñecos y figuras elaborados con hojas y ramas. Estos muñecos\, conocidos como “maios”\, se ubican en los balcones y ventanas de las casas y representan a personajes populares o alegóricos. Además de la decoración callejera\, se organizan conciertos\, actuaciones de música y danza tradicional\, desfiles\, concursos y otras actividades culturales. También se pueden degustar platos típicos de la gastronomía local\, como empanadas\, tortillas\, chorizos y vino. \nLa Fiesta de los Maios es una oportunidad para conocer y disfrutar de la cultura y las tradiciones de la región de Galicia. Si tienes la oportunidad de visitar Vigo en el mes de mayo\, no te pierdas esta colorida y alegre celebración.
URL:https://cas.terrasatlanticas.es/evento/festa-de-los-mayos-en-vigo/
CATEGORIES:Festividades en Vigo
ATTACH;FMTTYPE=image/png:https://cas.terrasatlanticas.es/wp-content/uploads/2023/03/Festa-dos-maios.png
END:VEVENT
BEGIN:VEVENT
DTSTART;TZID=Europe/Madrid:20230513T100000
DTEND;TZID=Europe/Madrid:20230517T190000
DTSTAMP:20260423T024052
CREATED:20230314T065431Z
LAST-MODIFIED:20230922T194912Z
UID:425-1683972000-1684350000@cas.terrasatlanticas.es
SUMMARY:Fiesta de la empanada
DESCRIPTION:  \nFiesta gastronómica que se celebra en el municipio de Gondomar\, donde una decena de hosteleros participan desde el 13 de mayo hasta el 17 de mayo. Los participantes podrán degustar diferentes especialidades de empanada a 3 euros por ración. En ediciones anteriores\, se sortearon 4 vales de 50 euros para que los ganadores los utilicen en sus establecimientos.
URL:https://cas.terrasatlanticas.es/evento/festa-de-la-empanada-en-gondomar/
CATEGORIES:Festividades en Gondomar
ATTACH;FMTTYPE=image/jpeg:https://cas.terrasatlanticas.es/wp-content/uploads/2023/03/Festa-da-empanada.jpg
END:VEVENT
BEGIN:VEVENT
DTSTART;TZID=Europe/Madrid:20230513T100000
DTEND;TZID=Europe/Madrid:20230528T190000
DTSTAMP:20260423T024052
CREATED:20230315T100025Z
LAST-MODIFIED:20230915T104041Z
UID:660-1683972000-1685300400@cas.terrasatlanticas.es
SUMMARY:Dino Expo XXL 2023 IFEVI
DESCRIPTION:Por primera vez en Vigo llega la mayor exposición de dinosaurios a escala real\, con más de 100 dinosaurios en un espacio de 500 m². Las entradas están disponibles en la página http://www.dinosaurios-expo.es/ Este evento está dirigido a todas las edades y ofrece una hora de recorrido con dinosaurios de tamaño real. El costo de la entrada infantil es de 8 euros\, mientras que la entrada de adulto tiene un costo de 10 euros. \n 
URL:https://cas.terrasatlanticas.es/evento/dino-expo-xxl-2023-ifevi/
CATEGORIES:Actividades en Vigo
ATTACH;FMTTYPE=image/jpeg:https://cas.terrasatlanticas.es/wp-content/uploads/2023/03/Dino-Expo-XXL.jpeg
END:VEVENT
BEGIN:VEVENT
DTSTART;VALUE=DATE:20230528
DTEND;VALUE=DATE:20230530
DTSTAMP:20260423T024052
CREATED:20230314T131545Z
LAST-MODIFIED:20230922T105406Z
UID:600-1685239200-1685325599@cas.terrasatlanticas.es
SUMMARY:Fiesta del deporte de Vincios
DESCRIPTION:  \nEvento organizado por el Club Deportivo de Vincios que se llevará a cabo el sábado 28 de mayo en el campo de fútbol de A Pasaxe. El día comienza con un Mini Trail de 15 km en Galiñeiro a las 10:00 horas\, seguido de una Caminata Temática de 12 km desde O Galiñeiro a las 10:15 horas. Por la tarde\, habrá una carrera popular de 6 km a las 16:30 horas y otra Mini carrera de 3 km a las 17:00 horas. Finalmente\, a las 17:00 horas\, comenzará el XXVIII Cross Escolar Sta. Mariña. \nLas inscripciones están disponibles hasta el jueves 26 de mayo en el correo electrónico manolovincios@gmail.com\, incluyendo nombre\, apellidos\, DNI y fecha de nacimiento. La inscripción para el Mini Trail\, la Caminata Temática\, la Carrera Popular y la Mini Carrera tiene un costo de 5 euros\, mientras que para el XXVIII Cross Escolar Sta. Mariña será gratuita. Puede ponerse en contacto en el teléfono 699670085 preguntando por Manolo. \n  \n  \n  \n 
URL:https://cas.terrasatlanticas.es/evento/festa-del-deporte-de-vincios/
CATEGORIES:Actividades en Gondomar,Festividades en Gondomar
ATTACH;FMTTYPE=image/jpeg:https://cas.terrasatlanticas.es/wp-content/uploads/2023/03/festa-do-deporte-de-vincios-gondomar_img23572n1t0.jpg
END:VEVENT
END:VCALENDAR