BEGIN:VCALENDAR
VERSION:2.0
PRODID:-//TerrasAtlánticas - ECPv6.10.1.1//NONSGML v1.0//EN
CALSCALE:GREGORIAN
METHOD:PUBLISH
X-ORIGINAL-URL:https://cas.terrasatlanticas.es
X-WR-CALDESC:Events for TerrasAtlánticas
REFRESH-INTERVAL;VALUE=DURATION:PT1H
X-Robots-Tag:noindex
X-PUBLISHED-TTL:PT1H
BEGIN:VTIMEZONE
TZID:Europe/Madrid
BEGIN:DAYLIGHT
TZOFFSETFROM:+0100
TZOFFSETTO:+0200
TZNAME:CEST
DTSTART:20230326T010000
END:DAYLIGHT
BEGIN:STANDARD
TZOFFSETFROM:+0200
TZOFFSETTO:+0100
TZNAME:CET
DTSTART:20231029T010000
END:STANDARD
END:VTIMEZONE
BEGIN:VEVENT
DTSTART;TZID=Europe/Madrid:20230101T100000
DTEND;TZID=Europe/Madrid:20231231T190000
DTSTAMP:20260423T082251
CREATED:20230629T101758Z
LAST-MODIFIED:20230922T195033Z
UID:1600-1672567200-1704049200@cas.terrasatlanticas.es
SUMMARY:Visitas teatralizadas en o Castelo de Soutomaior
DESCRIPTION:La Diputación de Pontevedra organiza entre los meses de julio y diciembre un total de 68 sesiones de visitas teatralizadas al Castillo de Soutomaior\, que permitirán que más de 2.000 personas (30 por turno) descubran la fortaleza de una manera diferente y desde la perspectiva de la mitología y las leyendas de la provincia de Pontevedra y de Galicia. Las visitas están enmarcadas en la línea temática “Orixe Rías Baixas”\, la campaña de promoción turística del destino Pontevedra Provincia que se está desarrollando en este 2023 centrada en el patrimonio cultural inmaterial. Las visitas\, excepto las específicas para público adulto\, están pensadas para público familiar a partir de los tres años\, estarán representadas por Troula Animación y tienen un precio unitario de 8 euros (incluye la visita al castillo). Las entradas se pueden adquirir en la web del Castillo. \nLa programación de verano comienza en julio. Habrá en julio y agosto dos sesiones los lunes y viernes a las 11:30 y a las 19:00 horas. Girarán en torno a un castillo hechizado donde los más pequeños deberán deshacer el encanto que sufre la fortaleza. Se organizan 34 sesiones\, donde los niños y niñas podrán interactuar con los cuatro personajes protagonistas: el trasno (el comediante)\, la meiga (que realiza pociones secretas)\, la moura (habitante del castillo) y el bardo (el poeta oficial de la misión). \nEn otoño e invierno\, tendrán lugar las visitas teatralizadas temáticas para el Samaín y la Navidad. Las visitas de Samaín están divididas en dos bloques: una versión para personas adultas que se llevará a cabo los viernes y sábados de todo el mes de octubre a las 20:00 horas (ocho sesiones)\, y una versión para público infantil que se celebrará los sábados y domingos de octubre en dos turnos\, a las 11:30 y a las 16:30 horas. Por último\, las visitas teatralizadas de Navidad cerrarán la programación durante el puente de diciembre\, con diez sesiones. \n 
URL:https://cas.terrasatlanticas.es/evento/1600/
CATEGORIES:Actividades en Soutomaior
ATTACH;FMTTYPE=image/png:https://cas.terrasatlanticas.es/wp-content/uploads/2023/06/Visitas-teatralizadas-no-Castelo-de-Soutomaior.png
END:VEVENT
BEGIN:VEVENT
DTSTART;VALUE=DATE:20230302
DTEND;VALUE=DATE:20230304
DTSTAMP:20260423T082251
CREATED:20230314T130002Z
LAST-MODIFIED:20230922T201331Z
UID:185-1677718800-1677805199@cas.terrasatlanticas.es
SUMMARY:Fiesta de San Blas
DESCRIPTION:La fiesta de San Blas es la celebración más grande del invierno en Vigo. Cada 3 de febrero\, miles de personas “invaden” la pequeña parroquia de Bembrive para disfrutar de una de las festividades más populares de Vigo: San Brais. \nEn primer lugar\, debido a su gente\, que llena las calles\, llueva o haga sol\, bailando\, cantando y celebrando en cada rincón. Y en segundo lugar\, por los “furanchos”\, esas casas con comidas típicas que se instalan en sótanos\, garajes e incluso salas de estar privadas para servir el vino sobrante de la cosecha. Durante San Brais\, también aprovechan para servir platos tradicionales de cerdo como cocido\, callos y oreja\, utilizando productos de la tradicional matanza del cerdo. \n  \n  \n 
URL:https://cas.terrasatlanticas.es/evento/festa-de-san-brais-en-bembrive/
CATEGORIES:Festividades en Vigo
ATTACH;FMTTYPE=image/jpeg:https://cas.terrasatlanticas.es/wp-content/uploads/2023/03/san-blas-imagen.jpg
END:VEVENT
BEGIN:VEVENT
DTSTART;VALUE=DATE:20230303
DTEND;VALUE=DATE:20230305
DTSTAMP:20260423T082251
CREATED:20230314T125944Z
LAST-MODIFIED:20230925T093048Z
UID:302-1677805200-1677891599@cas.terrasatlanticas.es
SUMMARY:Carnaval de verano
DESCRIPTION:El Carnaval de Verano\, que se celebra en Redondela el penúltimo fin de semana de agosto. Se celebra desde 1997 y tiene su origen en el Martes de Carnaval. Incluye una programación de conciertos y un concurso de “drag queens”.
URL:https://cas.terrasatlanticas.es/evento/carnaval-de-verano/
CATEGORIES:Festividades en Redondela
ATTACH;FMTTYPE=image/jpeg:https://cas.terrasatlanticas.es/wp-content/uploads/2023/03/entroido-veran-redondela-disfraces2-1140x570-1.jpg
END:VEVENT
BEGIN:VEVENT
DTSTART;TZID=Europe/Madrid:20230304T090000
DTEND;TZID=Europe/Madrid:20230305T180000
DTSTAMP:20260423T082251
CREATED:20230314T125837Z
LAST-MODIFIED:20230915T114651Z
UID:228-1677920400-1678039200@cas.terrasatlanticas.es
SUMMARY:Festa da cacheira
DESCRIPTION:Es la cita gastronómica más popular del municipio. Además\, también es una de las festividades culinarias más consolidadas del invierno en toda la provincia. \nEl programa de actividades de Cacheira cuenta con elementos tradicionales de celebraciones anteriores\, como el pregón\, que este año estará a cargo de Lito\, cantante de la orquesta Panorama\, que estará acompañado de actuaciones musicales. \n  \n  \n 
URL:https://cas.terrasatlanticas.es/evento/festa-da-cacheira/
CATEGORIES:Festividades en Pazos de borbén
ATTACH;FMTTYPE=image/jpeg:https://cas.terrasatlanticas.es/wp-content/uploads/2023/03/1677831844323.jpg
END:VEVENT
BEGIN:VEVENT
DTSTART;TZID=Europe/Madrid:20230306T010000
DTEND;TZID=Europe/Madrid:20230306T010000
DTSTAMP:20260423T082251
CREATED:20230314T125625Z
LAST-MODIFIED:20230922T202002Z
UID:360-1678064400-1678064400@cas.terrasatlanticas.es
SUMMARY:Fiesta de la coca
DESCRIPTION:La leyenda de la Coca es uno de los mitos más importantes de Redondela\, que da lugar a una de las festividades más conocidas del municipio. Cuenta la leyenda que hace siglos vivía en Redondela un dragón que se llevaba a las mujeres más hermosas del pueblo para su festín\, situado bajo el puente de la Isla de San Simón. Los jóvenes marineros del pueblo\, hartos de las maldades de la bestia\, decidieron darle caza alzando sus espadas\, y tras una larga batalla\, lograron la victoria. Una vez muerto el animal\, rescataron a sus prisioneras y llevaron el cuerpo al centro del pueblo\, donde los marineros\, agarrando las espadas unos de otros\, comenzaron a bailar alrededor del tormento al que pusieron fin. Para recordar esta historia ancestral\, cada año en el desfile del Corpus Christi\, desfila por las calles la figura de la Coca y se realiza la “Danza de las Espadas y las Penas”. También es de especial interés ver las alfombras florales que se realizan para el paso de la procesión de la Virgen “A Gabacha”. La tradición se ha convertido en una espectacular fiesta declarada “De Interés Turístico Gallego” de varios días de duración\, en los que se disfruta de un amplio programa de espectáculos\, conciertos\, exposiciones y verbenas nocturnas. Esta fiesta siempre tiene lugar en la segunda semana de junio\, cada año. \n  \n 
URL:https://cas.terrasatlanticas.es/evento/festa-da-coca/
CATEGORIES:Actividades en Redondela,Festividades en Redondela
ATTACH;FMTTYPE=image/jpeg:https://cas.terrasatlanticas.es/wp-content/uploads/2023/03/Coca-Redondela-03.jpg
END:VEVENT
BEGIN:VEVENT
DTSTART;TZID=Europe/Madrid:20230314T010000
DTEND;TZID=Europe/Madrid:20230314T010000
DTSTAMP:20260423T082251
CREATED:20230314T130819Z
LAST-MODIFIED:20230922T201835Z
UID:429-1678755600-1678755600@cas.terrasatlanticas.es
SUMMARY:Fiesta del mejillón de Redondela
DESCRIPTION:La parroquia de Chapela en Redondela celebrará la Fiesta del Mejillón\, un evento culinario que reunirá una vez más a numerosas personas que se acercarán al paseo marítimo para degustar este delicioso molusco preparado de diversas formas. Se lleva a cabo en la parroquia de Chapela\, a mediados del mes de agosto. Los asistentes podrán disfrutar durante estos días con la degustación de este sabroso molusco preparado de diferentes maneras\, al vapor\, en vinagreta\, en empanada\, etc. La fiesta tiene lugar en el paseo marítimo. \n 
URL:https://cas.terrasatlanticas.es/evento/festa-do-mexillon/
CATEGORIES:Festividades en Redondela
ATTACH;FMTTYPE=image/png:https://cas.terrasatlanticas.es/wp-content/uploads/2023/03/Festa-do-mexillon-Redondela.png
END:VEVENT
BEGIN:VEVENT
DTSTART;TZID=Europe/Madrid:20230314T090000
DTEND;TZID=Europe/Madrid:20230314T180000
DTSTAMP:20260423T082251
CREATED:20230314T132221Z
LAST-MODIFIED:20230925T093011Z
UID:605-1678784400-1678816800@cas.terrasatlanticas.es
SUMMARY:Carnaval Salceda de Caselas
DESCRIPTION:Salceda de Caselas es conocida por su celebración de carnaval\, que tiene una historia rica que nos muestra cómo se vivieron los tres desfiles en el mejor carnaval de la zona: después de dos años sin este tipo de celebraciones\, se recuperaron los tres desfiles que comienzan el 17 de febrero con el desfile infantil organizado por la concejalía de cultura dirigida por Álex Rodríguez\, mostrando la cultura a través de desfiles. El domingo tuvo lugar el desfile de comparsas que representa una tradición que ha estado presente durante 135 años en la ciudad. Para concluir\, la ciudad celebró el centenario enfrentamiento entre los barrios de A Feira y Castro Barreiro con verbenas en ambos lados el lunes y martes (20 y 21 de febrero)\, y la jornada termina el miércoles 22 de febrero a las 17:00 horas con la presentación de carrozas y comparsas de todo el barrio de Castro Barreiro y de la Feira en la Plaza del Ayuntamiento\, finalizando a las 19:00 horas en el Cruceiro da Fontedapedra\, que se podrá ver en una transmisión en vivo a través del canal de YouTube. \n 
URL:https://cas.terrasatlanticas.es/evento/carnaval-salceda-de-caselas/
CATEGORIES:Actividades en Salceda de caselas,Festividades en Salceda de caselas
ATTACH;FMTTYPE=image/png:https://cas.terrasatlanticas.es/wp-content/uploads/2023/03/Entroido-Salceda-de-Caselas.png
END:VEVENT
BEGIN:VEVENT
DTSTART;TZID=Europe/Madrid:20230315T010000
DTEND;TZID=Europe/Madrid:20230315T010000
DTSTAMP:20260423T082251
CREATED:20230315T072357Z
LAST-MODIFIED:20230922T195946Z
UID:628-1678842000-1678842000@cas.terrasatlanticas.es
SUMMARY:Fiesta Arde o Pazo
DESCRIPTION:El municipio de Mos acoge el sábado 27 de abril una nueva edición de la fiesta Arde O Pazo\, en la que se llevará a cabo la recreación histórica de la llegada del ejército francés al municipio y la quema del Pazo de los marqueses de Mos. \n 
URL:https://cas.terrasatlanticas.es/evento/festa-arde-o-pazo-mos/
CATEGORIES:Festividades en Mos
ATTACH;FMTTYPE=image/png:https://cas.terrasatlanticas.es/wp-content/uploads/2023/03/Festa-Arde-o-Pazo.png
END:VEVENT
BEGIN:VEVENT
DTSTART;TZID=Europe/Madrid:20230315T090000
DTEND;TZID=Europe/Madrid:20230315T180000
DTSTAMP:20260423T082251
CREATED:20230315T082106Z
LAST-MODIFIED:20230922T195822Z
UID:632-1678870800-1678903200@cas.terrasatlanticas.es
SUMMARY:Certamen de la camelia de Soutomaior
DESCRIPTION:Cerca de 40 expositores se reunirán en la Carpa del Castillo de Soutomaior\, un lugar único considerado Jardín de Excelencia Internacional de la Camelia. \nHabrá exposición\, premios e incluso entretenimiento musical a cargo del dúo ‘Algo pasa con Mery’. Además\, durante todo el fin de semana\, muchos comercios locales decorarán sus escaparates con composiciones florales. \n 
URL:https://cas.terrasatlanticas.es/evento/certame-da-camelia-de-soutomaior/
CATEGORIES:Actividades en Soutomaior,Festividades en Soutomaior
ATTACH;FMTTYPE=image/png:https://cas.terrasatlanticas.es/wp-content/uploads/2023/03/imagen_2023-03-15_102049655.png
END:VEVENT
BEGIN:VEVENT
DTSTART;TZID=Europe/Madrid:20230315T090000
DTEND;TZID=Europe/Madrid:20230315T180000
DTSTAMP:20260423T082251
CREATED:20230315T084259Z
LAST-MODIFIED:20230915T105823Z
UID:639-1678870800-1678903200@cas.terrasatlanticas.es
SUMMARY:Holi Run Vigo
DESCRIPTION:Evento que está diseñado para que todas aquellas personas que deseen divertirse mientras hacen ejercicio y cuidan su cuerpo puedan disfrutar juntas\, presentamos la Holi Run Vigo\, una carrera que se celebra en diferentes ciudades a nivel nacional y que también tiene presencia en la ciudad de Vigo. Consiste en recorrer 5 km por Samil (Avenida de Europa) mientras corremos con polvos de colores y disfrutamos de la música de DJs que participan en este evento. La carrera comienza a las 11:00 horas desde el punto de partida\, que es la pista de tenis\, recorriendo un circuito circular de 5 km. \n  \n 
URL:https://cas.terrasatlanticas.es/evento/holi-run-vigo/
CATEGORIES:Actividades en Vigo
ATTACH;FMTTYPE=image/jpeg:https://cas.terrasatlanticas.es/wp-content/uploads/2023/03/holirunsamil.jpg
END:VEVENT
BEGIN:VEVENT
DTSTART;TZID=Europe/Madrid:20230315T090000
DTEND;TZID=Europe/Madrid:20230315T180000
DTSTAMP:20260423T082251
CREATED:20230315T085634Z
LAST-MODIFIED:20230915T105809Z
UID:646-1678870800-1678903200@cas.terrasatlanticas.es
SUMMARY:Monólogos en Vigo
DESCRIPTION:  \nEn Vigo\, hay varios lugares donde se pueden disfrutar de monólogos y espectáculos de comedia en vivo\, entre los que encontramos:\nTeatro Salesianos: El Teatro Salesianos es un espacio cultural donde se organizan eventos\, como conciertos\, obras de teatro y monólogos. Suele contar con la presencia de conocidos humoristas del panorama nacional.\nAuditorio Municipal del Ayuntamiento de Vigo: El Auditorio Municipal de Vigo es un espacio cultural donde se organizan eventos de todo tipo\, incluyendo monólogos y espectáculos de comedia.\nCafé Teatro A Iguana: El Café Teatro A Iguana es un local de ambiente bohemio en el que se celebran espectáculos de comedia en vivo\, así como otros eventos culturales\, como conciertos y exposiciones.\nSala Rouge: La Sala Rouge es un local de entretenimiento nocturno donde se organizan monólogos\, además de otras actividades de entretenimiento\, como música en vivo y fiestas temáticas. \n 
URL:https://cas.terrasatlanticas.es/evento/monologos-en-vigo/
CATEGORIES:Actividades en Vigo
END:VEVENT
BEGIN:VEVENT
DTSTART;TZID=Europe/Madrid:20230315T090000
DTEND;TZID=Europe/Madrid:20230315T180000
DTSTAMP:20260423T082251
CREATED:20230315T095422Z
LAST-MODIFIED:20230915T105704Z
UID:657-1678870800-1678903200@cas.terrasatlanticas.es
SUMMARY:El XIV Festival de títeres de Redondela
DESCRIPTION:  \nLa nueva edición del Festival Internacional de Títeres de Redondela\, en memoria de Juanjo Amoedo\, llega en 2023 a Redondela la semana del 12 al 17 de mayo\, volviendo a su fecha original\, y contará con más de 80 actividades de nuevo en formato presencial. \nEste año\, sus organizadores desean volver a llevar un programa intenso lleno de arte y teatro a las calles de la villa\, coronando así a Redondela como la capital de los títeres. Para ello\, contarán con la participación de más de 30 compañías procedentes de países como Italia\, Francia\, Eslovenia o Argentina. También participarán grupos teatrales de toda España y Galicia\, entre los que destacan Tanxarina Títeres y Alakrán Títeres. Con más de 80 representaciones programadas\, los espectadores podrán conectar con el mundo de los títeres a través de un amplio abanico de culturas. \nDesde la organización han comunicado que con esta edición “se pretenden recuperar las colaboraciones comerciales\, ya que una de las características del festival es apoyar el tejido comercial de la villa; así como el Mercadillo Titiritero\, un espacio dedicado a puestos relacionados con el Mundo del Títere”. \n  \n  \n 
URL:https://cas.terrasatlanticas.es/evento/el-xxiii-festival-de-titeres-de-redondela-regresa-con-una-nueva-edicion-en-mayo-de-2022/
CATEGORIES:Feiras y Congresos en Redondela
ATTACH;FMTTYPE=image/png:https://cas.terrasatlanticas.es/wp-content/uploads/2023/03/Festival-de-titeres-de-Redondela.png
END:VEVENT
BEGIN:VEVENT
DTSTART;TZID=Europe/Madrid:20230316T090000
DTEND;TZID=Europe/Madrid:20230316T180000
DTSTAMP:20260423T082251
CREATED:20230316T084552Z
LAST-MODIFIED:20230915T105451Z
UID:669-1678957200-1678989600@cas.terrasatlanticas.es
SUMMARY:Centro Ecuestre Cima de Vila
DESCRIPTION:Una alternativa al centro ecuestre tradicional. Clases de doma natural y talleres para familias. Formación en doma natural para adultos. Intervenciones asistidas con caballos (terapias de desarrollo personal con caballos). Diversos talleres. \n 
URL:https://cas.terrasatlanticas.es/evento/centro-ecuestre-cima-de-vila/
CATEGORIES:Actividades en Fornelos de montes
END:VEVENT
BEGIN:VEVENT
DTSTART;TZID=Europe/Madrid:20230316T090000
DTEND;TZID=Europe/Madrid:20230316T180000
DTSTAMP:20260423T082251
CREATED:20230316T090647Z
LAST-MODIFIED:20230915T105110Z
UID:673-1678957200-1678989600@cas.terrasatlanticas.es
SUMMARY:Centro de escalada Jose Juan
DESCRIPTION:Guía de escalada en roca. Cursos\, formación en roca y actividades guiadas. Amplia experiencia en formación y enseñanza\, instructor de escalada deportiva. Entrenamiento deportivo y gestión de riesgos para actividades realizadas en el entorno natural. \n 
URL:https://cas.terrasatlanticas.es/evento/centro-de-escalada-jose-juan/
CATEGORIES:Actividades en Fornelos de montes
END:VEVENT
BEGIN:VEVENT
DTSTART;TZID=Europe/Madrid:20230316T090000
DTEND;TZID=Europe/Madrid:20230316T180000
DTSTAMP:20260423T082251
CREATED:20230317T104545Z
LAST-MODIFIED:20230915T105042Z
UID:675-1678957200-1678989600@cas.terrasatlanticas.es
SUMMARY:Circuíto de Automodelismo de Vigo
DESCRIPTION:Este circuito se encuentra en la playa de Samil en Vigo. Fue inaugurado en 1987 con la celebración del Gran Premio Efra. \nA lo largo de los años\, se han realizado numerosas reformas y mejoras para hacerlo más competitivo y atractivo (un objetivo que se ha logrado ampliamente). \nCuenta con un podio con capacidad para catorce pilotos y bancos para transmisores; boxes para cien pilotos equipados con áreas cubiertas\, mesas fijas de metal\, bancos para objetos y tomas de 220 voltios; áreas de limpieza con mangueras de aire comprimido; un área para lavar la carrocería. \nEl circuito también cuenta con un bar con terraza\, desde donde se puede observar mejor todo el espectáculo de los motores rugiendo\, y servicios para hombres y mujeres. \nEn 2012\, se organizó allí el I Open Internacional de Pista en Samil\, un evento de tres días organizado por el club Automodelista Rias Baixas\, en el que participaron los pilotos más destacados\, tanto a nivel nacional como internacional. \nLa competición fue transmitida utilizando la plataforma LiveStream a través de Internet y la televisión autonómica de Galicia. \n 
URL:https://cas.terrasatlanticas.es/evento/circuito-de-automodelismo-de-vigo/
CATEGORIES:Actividades en Vigo
ATTACH;FMTTYPE=image/png:https://cas.terrasatlanticas.es/wp-content/uploads/2023/03/Circuito-de-Automodelismo-de-Vigo.png
END:VEVENT
BEGIN:VEVENT
DTSTART;TZID=Europe/Madrid:20230318T193000
DTEND;TZID=Europe/Madrid:20230319T220000
DTSTAMP:20260423T082251
CREATED:20230315T082725Z
LAST-MODIFIED:20230925T092942Z
UID:631-1679167800-1679263200@cas.terrasatlanticas.es
SUMMARY:XIV Jornadas de la Camelia(Salceda de Caselas)
DESCRIPTION:La XIV Jornada de la Camelia se llevará a cabo los días 18 y 19 de marzo en el Auditorio Municipal de Salceda de Caselas\, donde todos los asistentes podrán disfrutar de la muestra y exposición floral de esta flor\, que cuenta con diversas especies y se exhibe en todo el municipio. El 18 de marzo\, a las 16:30 horas\, se llevará a cabo la ceremonia de apertura con una actuación de Fernando Barroso y Margarida Mariño. Los asistentes podrán visitar la exposición desde las 16:30 horas hasta las 19:00 horas del sábado. El domingo comenzará a las 10:00  y continuará hasta las 21:00 horas. \n 
URL:https://cas.terrasatlanticas.es/evento/xiv-jornadas-de-la-camelia-salceda-de-caselas/
CATEGORIES:Actividades en Salceda de caselas,Festividades en Salceda de caselas
ATTACH;FMTTYPE=image/jpeg:https://cas.terrasatlanticas.es/wp-content/uploads/2023/03/Xornadas-da-Camelia-Salceda-de-Caselas.jpg
END:VEVENT
BEGIN:VEVENT
DTSTART;VALUE=DATE:20230321
DTEND;VALUE=DATE:20230323
DTSTAMP:20260423T082251
CREATED:20230314T125725Z
LAST-MODIFIED:20230922T195549Z
UID:411-1679360400-1679446799@cas.terrasatlanticas.es
SUMMARY:Fiesta del cerdo al Espeto de Donas
DESCRIPTION:La comisión de fiestas de Donas\, organiza esta fiesta gastronómica donde los asistentes\, podrán degustar un delicioso cerdo al espeto a precios populares.
URL:https://cas.terrasatlanticas.es/evento/festa-do-porco-o-espeto-de-donasgondomar/
CATEGORIES:Festividades en Gondomar
ATTACH;FMTTYPE=image/jpeg:https://cas.terrasatlanticas.es/wp-content/uploads/2023/03/Festa-do-Porco-o-Espeto-de-Donas.jpg
END:VEVENT
BEGIN:VEVENT
DTSTART;TZID=Europe/Madrid:20230324T210000
DTEND;TZID=Europe/Madrid:20230326T220000
DTSTAMP:20260423T082251
CREATED:20230314T125657Z
LAST-MODIFIED:20230922T110001Z
UID:534-1679691600-1679868000@cas.terrasatlanticas.es
SUMMARY:Fiesta de los callos de Teis (fecha modificada por lluvia)
DESCRIPTION:Evento organizado por la asociación cultural de Teis y Eventos de Rías Baixas que tendrá lugar el fin de semana del 17 al 19 de marzo\, en el que habrá diferentes tipos de atracciones\, actuaciones musicales\, atracciones infantiles\, puestos de pulpo y degustaciones de callos que le dan nombre a la fiesta. \n 
URL:https://cas.terrasatlanticas.es/evento/fiesta-de-los-callos-de-teis/
CATEGORIES:Festividades en Vigo
ATTACH;FMTTYPE=image/jpeg:https://cas.terrasatlanticas.es/wp-content/uploads/2023/03/Festa-dos-callos-Teis.jpg
END:VEVENT
BEGIN:VEVENT
DTSTART;VALUE=DATE:20230327
DTEND;VALUE=DATE:20230329
DTSTAMP:20260423T082251
CREATED:20230315T084529Z
LAST-MODIFIED:20230922T105906Z
UID:641-1679882400-1679968799@cas.terrasatlanticas.es
SUMMARY:Actividades para los peques en Vigo
DESCRIPTION:La ciudad brinda la oportunidad para que todos los niños y niñas cuyos padres deseen que sus hijos e hijas asistan a talleres dinámicos\, visiten el espacio en el centro comercial Vialia donde podrán encontrar eventos que se realizan con diferentes temáticas con el fin de desarrollar su psicomotricidad. En la imagen\, se pueden observar diferentes talleres infantiles que ya se han realizado. Esto ayudará a los niños a mantenerse activos en su tiempo libre y contribuirá a la conciliación de la vida laboral para todas las madres y padres. \n  \n 
URL:https://cas.terrasatlanticas.es/evento/actividades-para-los-peques-en-vigo/
CATEGORIES:Actividades en Vigo
ATTACH;FMTTYPE=image/png:https://cas.terrasatlanticas.es/wp-content/uploads/2023/03/Actividades-con-nenos-en-VigoVialia.png
END:VEVENT
BEGIN:VEVENT
DTSTART;TZID=Europe/Madrid:20230327T100000
DTEND;TZID=Europe/Madrid:20230327T190000
DTSTAMP:20260423T082251
CREATED:20230327T063522Z
LAST-MODIFIED:20230922T105814Z
UID:912-1679911200-1679943600@cas.terrasatlanticas.es
SUMMARY:Ruta interactiva histórica del cementerio de Pereiró
DESCRIPTION:  \nDe los dos cementerios que hay en Vigo\, Pereiró es el de mayor envergadura. Su recorrido ofrece un auténtico museo al aire libre de arte e historia\, descubriendo el pasado de Vigo a través de personajes ilustres\, sin olvidar a otros que bien merecerían ser incluidos. Muchos de ellos aún están en nuestra memoria gracias a las calles que hoy llevan sus nombres y a sus retratos en el museo Quiñones de León. \nAdmirables mausoleos\, panteones y monumentos diseñados entre los siglos XIX y XX convierten este apacible y mágico lugar en un punto digno de visita. El cementerio de Pereiró está ornamentado no solo con una variada vegetación\, sino también con diversas esculturas y símbolos que invitan a pasear\, descubrir sus secretos y perderse entre sus calles. \nCuándo: Evento permanente \nDónde: Cementerio de Pereiró – Av. Castrelos 212 \nHorario: Mañanas de 9:00 a 13:00 horas. Tardes de 15:15 a 18:30 horas. \nPrecio: Entrada gratuita
URL:https://cas.terrasatlanticas.es/evento/ruta-interactiva-historica-del-cementerio-de-pereiro/
CATEGORIES:Actividades en Vigo
END:VEVENT
BEGIN:VEVENT
DTSTART;VALUE=DATE:20230331
DTEND;VALUE=DATE:20230402
DTSTAMP:20260423T082251
CREATED:20230314T130658Z
LAST-MODIFIED:20230922T105734Z
UID:417-1680228000-1680314399@cas.terrasatlanticas.es
SUMMARY:Fiesta de los Callos de Peiteiros
DESCRIPTION:Fiesta gastronómica que tendrá lugar el domingo 26 de marzo en el recinto de fiestas de Peitieiros\, en el municipio de Gondomar\, donde los asistentes podrán degustar deliciosas raciones de callos a precios populares a partir de las 11:00 horas y disfrutar de la animación musical del grupo folclórico Ecos e Agarimos. \n 
URL:https://cas.terrasatlanticas.es/evento/festa-de-los-callos-de-peiteiros/
CATEGORIES:Festividades en Gondomar
ATTACH;FMTTYPE=image/png:https://cas.terrasatlanticas.es/wp-content/uploads/2023/03/imagen_2023-03-14_151506035.png
END:VEVENT
BEGIN:VEVENT
DTSTART;TZID=Europe/Madrid:20230331T150000
DTEND;TZID=Europe/Madrid:20230403T015900
DTSTAMP:20260423T082251
CREATED:20230314T125754Z
LAST-MODIFIED:20230922T105712Z
UID:536-1680274800-1680487140@cas.terrasatlanticas.es
SUMMARY:Fiesta de la reconquista
DESCRIPTION:  \nEl 28 de marzo de 1809\, ocurrió un evento histórico en la ciudad de Vigo\, cuando la ciudad fue invadida por las tropas francesas que luchaban por apoderarse de ella\, mientras que los vigueses luchaban por recuperarla. Desde esa fecha se celebra dicho evento en conmemoración de la recuperación del territorio que les pertenecía. Es una fiesta de interés cultural organizada por la asociación de vecinos del Casco Vello. \nLos actos oficiales comienzan el sábado 25 de marzo en la Basílica-Concatedral de Santa María a las 13:00 horas con el concierto inaugural de la Reconquista 2023 a cargo de la Orquesta Juvenil Kv2211\, con entrada gratuita y aforo limitado\, seguido de: \n– A las 18:00 horas\, un grupo de gaitas actuará en la Plaza del Berbés.\n– A las 19:30 horas\, representación de la destitución del alcalde José Antonio Alonso Cairo y la toma de la ciudad por parte del ejército francés.\n– A las 20:30 horas\, actuación de las pandereteiras “Ferreñas da Oliveira”.\n– A las 21:30 horas\, actuación musical. \nLa programación para el domingo 26 de marzo es la siguiente: \n– A las 12:00 horas\, salida del ejército napoleónico del Casco Vello por las calles del casco antiguo.\n– A las 17:00 horas\, yincana infantil.\n– A las 12:00 horas\, talleres de Danzas del Mundo a cargo del “Grupo Monteira” en la Plaza del Berbés.\n– A las 16:30 horas\, taller de baile tradicional con “Manolo Cobas”.\n– A las 12:00 horas\, actuación de la “banda de gaitas de la ETRAD” en la Plaza de la Pedra. \n 
URL:https://cas.terrasatlanticas.es/evento/festa-de-la-reconquista/
CATEGORIES:Festividades en Vigo
ATTACH;FMTTYPE=image/jpeg:https://cas.terrasatlanticas.es/wp-content/uploads/2023/03/festa-da-reconquista-vigo_img338n1t0.jpg
END:VEVENT
END:VCALENDAR