BEGIN:VCALENDAR
VERSION:2.0
PRODID:-//TerrasAtlánticas - ECPv6.10.1.1//NONSGML v1.0//EN
CALSCALE:GREGORIAN
METHOD:PUBLISH
X-ORIGINAL-URL:https://cas.terrasatlanticas.es
X-WR-CALDESC:Events for TerrasAtlánticas
REFRESH-INTERVAL;VALUE=DURATION:PT1H
X-Robots-Tag:noindex
X-PUBLISHED-TTL:PT1H
BEGIN:VTIMEZONE
TZID:Europe/Madrid
BEGIN:DAYLIGHT
TZOFFSETFROM:+0100
TZOFFSETTO:+0200
TZNAME:CEST
DTSTART:20230326T010000
END:DAYLIGHT
BEGIN:STANDARD
TZOFFSETFROM:+0200
TZOFFSETTO:+0100
TZNAME:CET
DTSTART:20231029T010000
END:STANDARD
END:VTIMEZONE
BEGIN:VEVENT
DTSTART;TZID=Europe/Madrid:20230101T100000
DTEND;TZID=Europe/Madrid:20231231T190000
DTSTAMP:20260423T100931
CREATED:20230629T101758Z
LAST-MODIFIED:20230922T195033Z
UID:1600-1672567200-1704049200@cas.terrasatlanticas.es
SUMMARY:Visitas teatralizadas en o Castelo de Soutomaior
DESCRIPTION:La Diputación de Pontevedra organiza entre los meses de julio y diciembre un total de 68 sesiones de visitas teatralizadas al Castillo de Soutomaior\, que permitirán que más de 2.000 personas (30 por turno) descubran la fortaleza de una manera diferente y desde la perspectiva de la mitología y las leyendas de la provincia de Pontevedra y de Galicia. Las visitas están enmarcadas en la línea temática “Orixe Rías Baixas”\, la campaña de promoción turística del destino Pontevedra Provincia que se está desarrollando en este 2023 centrada en el patrimonio cultural inmaterial. Las visitas\, excepto las específicas para público adulto\, están pensadas para público familiar a partir de los tres años\, estarán representadas por Troula Animación y tienen un precio unitario de 8 euros (incluye la visita al castillo). Las entradas se pueden adquirir en la web del Castillo. \nLa programación de verano comienza en julio. Habrá en julio y agosto dos sesiones los lunes y viernes a las 11:30 y a las 19:00 horas. Girarán en torno a un castillo hechizado donde los más pequeños deberán deshacer el encanto que sufre la fortaleza. Se organizan 34 sesiones\, donde los niños y niñas podrán interactuar con los cuatro personajes protagonistas: el trasno (el comediante)\, la meiga (que realiza pociones secretas)\, la moura (habitante del castillo) y el bardo (el poeta oficial de la misión). \nEn otoño e invierno\, tendrán lugar las visitas teatralizadas temáticas para el Samaín y la Navidad. Las visitas de Samaín están divididas en dos bloques: una versión para personas adultas que se llevará a cabo los viernes y sábados de todo el mes de octubre a las 20:00 horas (ocho sesiones)\, y una versión para público infantil que se celebrará los sábados y domingos de octubre en dos turnos\, a las 11:30 y a las 16:30 horas. Por último\, las visitas teatralizadas de Navidad cerrarán la programación durante el puente de diciembre\, con diez sesiones. \n 
URL:https://cas.terrasatlanticas.es/evento/1600/
CATEGORIES:Actividades en Soutomaior
ATTACH;FMTTYPE=image/png:https://cas.terrasatlanticas.es/wp-content/uploads/2023/06/Visitas-teatralizadas-no-Castelo-de-Soutomaior.png
END:VEVENT
BEGIN:VEVENT
DTSTART;TZID=Europe/Madrid:20230314T010000
DTEND;TZID=Europe/Madrid:20230314T010000
DTSTAMP:20260423T100931
CREATED:20230314T130819Z
LAST-MODIFIED:20230922T201835Z
UID:429-1678755600-1678755600@cas.terrasatlanticas.es
SUMMARY:Fiesta del mejillón de Redondela
DESCRIPTION:La parroquia de Chapela en Redondela celebrará la Fiesta del Mejillón\, un evento culinario que reunirá una vez más a numerosas personas que se acercarán al paseo marítimo para degustar este delicioso molusco preparado de diversas formas. Se lleva a cabo en la parroquia de Chapela\, a mediados del mes de agosto. Los asistentes podrán disfrutar durante estos días con la degustación de este sabroso molusco preparado de diferentes maneras\, al vapor\, en vinagreta\, en empanada\, etc. La fiesta tiene lugar en el paseo marítimo. \n 
URL:https://cas.terrasatlanticas.es/evento/festa-do-mexillon/
CATEGORIES:Festividades en Redondela
ATTACH;FMTTYPE=image/png:https://cas.terrasatlanticas.es/wp-content/uploads/2023/03/Festa-do-mexillon-Redondela.png
END:VEVENT
BEGIN:VEVENT
DTSTART;TZID=Europe/Madrid:20230314T090000
DTEND;TZID=Europe/Madrid:20230314T180000
DTSTAMP:20260423T100931
CREATED:20230314T132221Z
LAST-MODIFIED:20230925T093011Z
UID:605-1678784400-1678816800@cas.terrasatlanticas.es
SUMMARY:Carnaval Salceda de Caselas
DESCRIPTION:Salceda de Caselas es conocida por su celebración de carnaval\, que tiene una historia rica que nos muestra cómo se vivieron los tres desfiles en el mejor carnaval de la zona: después de dos años sin este tipo de celebraciones\, se recuperaron los tres desfiles que comienzan el 17 de febrero con el desfile infantil organizado por la concejalía de cultura dirigida por Álex Rodríguez\, mostrando la cultura a través de desfiles. El domingo tuvo lugar el desfile de comparsas que representa una tradición que ha estado presente durante 135 años en la ciudad. Para concluir\, la ciudad celebró el centenario enfrentamiento entre los barrios de A Feira y Castro Barreiro con verbenas en ambos lados el lunes y martes (20 y 21 de febrero)\, y la jornada termina el miércoles 22 de febrero a las 17:00 horas con la presentación de carrozas y comparsas de todo el barrio de Castro Barreiro y de la Feira en la Plaza del Ayuntamiento\, finalizando a las 19:00 horas en el Cruceiro da Fontedapedra\, que se podrá ver en una transmisión en vivo a través del canal de YouTube. \n 
URL:https://cas.terrasatlanticas.es/evento/carnaval-salceda-de-caselas/
CATEGORIES:Actividades en Salceda de caselas,Festividades en Salceda de caselas
ATTACH;FMTTYPE=image/png:https://cas.terrasatlanticas.es/wp-content/uploads/2023/03/Entroido-Salceda-de-Caselas.png
END:VEVENT
END:VCALENDAR