BEGIN:VCALENDAR
VERSION:2.0
PRODID:-//TerrasAtlánticas - ECPv6.10.1.1//NONSGML v1.0//EN
CALSCALE:GREGORIAN
METHOD:PUBLISH
X-WR-CALNAME:TerrasAtlánticas
X-ORIGINAL-URL:https://cas.terrasatlanticas.es
X-WR-CALDESC:Events for TerrasAtlánticas
REFRESH-INTERVAL;VALUE=DURATION:PT1H
X-Robots-Tag:noindex
X-PUBLISHED-TTL:PT1H
BEGIN:VTIMEZONE
TZID:Europe/Madrid
BEGIN:DAYLIGHT
TZOFFSETFROM:+0100
TZOFFSETTO:+0200
TZNAME:CEST
DTSTART:20230326T010000
END:DAYLIGHT
BEGIN:STANDARD
TZOFFSETFROM:+0200
TZOFFSETTO:+0100
TZNAME:CET
DTSTART:20231029T010000
END:STANDARD
END:VTIMEZONE
BEGIN:VEVENT
DTSTART;TZID=Europe/Madrid:20230101T100000
DTEND;TZID=Europe/Madrid:20231231T190000
DTSTAMP:20260423T100402
CREATED:20230629T101758Z
LAST-MODIFIED:20230922T195033Z
UID:1600-1672567200-1704049200@cas.terrasatlanticas.es
SUMMARY:Visitas teatralizadas en o Castelo de Soutomaior
DESCRIPTION:La Diputación de Pontevedra organiza entre los meses de julio y diciembre un total de 68 sesiones de visitas teatralizadas al Castillo de Soutomaior\, que permitirán que más de 2.000 personas (30 por turno) descubran la fortaleza de una manera diferente y desde la perspectiva de la mitología y las leyendas de la provincia de Pontevedra y de Galicia. Las visitas están enmarcadas en la línea temática “Orixe Rías Baixas”\, la campaña de promoción turística del destino Pontevedra Provincia que se está desarrollando en este 2023 centrada en el patrimonio cultural inmaterial. Las visitas\, excepto las específicas para público adulto\, están pensadas para público familiar a partir de los tres años\, estarán representadas por Troula Animación y tienen un precio unitario de 8 euros (incluye la visita al castillo). Las entradas se pueden adquirir en la web del Castillo. \nLa programación de verano comienza en julio. Habrá en julio y agosto dos sesiones los lunes y viernes a las 11:30 y a las 19:00 horas. Girarán en torno a un castillo hechizado donde los más pequeños deberán deshacer el encanto que sufre la fortaleza. Se organizan 34 sesiones\, donde los niños y niñas podrán interactuar con los cuatro personajes protagonistas: el trasno (el comediante)\, la meiga (que realiza pociones secretas)\, la moura (habitante del castillo) y el bardo (el poeta oficial de la misión). \nEn otoño e invierno\, tendrán lugar las visitas teatralizadas temáticas para el Samaín y la Navidad. Las visitas de Samaín están divididas en dos bloques: una versión para personas adultas que se llevará a cabo los viernes y sábados de todo el mes de octubre a las 20:00 horas (ocho sesiones)\, y una versión para público infantil que se celebrará los sábados y domingos de octubre en dos turnos\, a las 11:30 y a las 16:30 horas. Por último\, las visitas teatralizadas de Navidad cerrarán la programación durante el puente de diciembre\, con diez sesiones. \n 
URL:https://cas.terrasatlanticas.es/evento/1600/
CATEGORIES:Actividades en Soutomaior
ATTACH;FMTTYPE=image/png:https://cas.terrasatlanticas.es/wp-content/uploads/2023/06/Visitas-teatralizadas-no-Castelo-de-Soutomaior.png
END:VEVENT
BEGIN:VEVENT
DTSTART;TZID=Europe/Madrid:20230306T010000
DTEND;TZID=Europe/Madrid:20230306T010000
DTSTAMP:20260423T100402
CREATED:20230314T125625Z
LAST-MODIFIED:20230922T202002Z
UID:360-1678064400-1678064400@cas.terrasatlanticas.es
SUMMARY:Fiesta de la coca
DESCRIPTION:La leyenda de la Coca es uno de los mitos más importantes de Redondela\, que da lugar a una de las festividades más conocidas del municipio. Cuenta la leyenda que hace siglos vivía en Redondela un dragón que se llevaba a las mujeres más hermosas del pueblo para su festín\, situado bajo el puente de la Isla de San Simón. Los jóvenes marineros del pueblo\, hartos de las maldades de la bestia\, decidieron darle caza alzando sus espadas\, y tras una larga batalla\, lograron la victoria. Una vez muerto el animal\, rescataron a sus prisioneras y llevaron el cuerpo al centro del pueblo\, donde los marineros\, agarrando las espadas unos de otros\, comenzaron a bailar alrededor del tormento al que pusieron fin. Para recordar esta historia ancestral\, cada año en el desfile del Corpus Christi\, desfila por las calles la figura de la Coca y se realiza la “Danza de las Espadas y las Penas”. También es de especial interés ver las alfombras florales que se realizan para el paso de la procesión de la Virgen “A Gabacha”. La tradición se ha convertido en una espectacular fiesta declarada “De Interés Turístico Gallego” de varios días de duración\, en los que se disfruta de un amplio programa de espectáculos\, conciertos\, exposiciones y verbenas nocturnas. Esta fiesta siempre tiene lugar en la segunda semana de junio\, cada año. \n  \n 
URL:https://cas.terrasatlanticas.es/evento/festa-da-coca/
CATEGORIES:Actividades en Redondela,Festividades en Redondela
ATTACH;FMTTYPE=image/jpeg:https://cas.terrasatlanticas.es/wp-content/uploads/2023/03/Coca-Redondela-03.jpg
END:VEVENT
END:VCALENDAR